BEGIN:VCALENDAR
VERSION:2.0
PRODID:-//Ransom Oaks - ECPv6.15.13//NONSGML v1.0//EN
CALSCALE:GREGORIAN
METHOD:PUBLISH
X-WR-CALNAME:Ransom Oaks
X-ORIGINAL-URL:https://ransomoaks.com
X-WR-CALDESC:Events for Ransom Oaks
REFRESH-INTERVAL;VALUE=DURATION:PT1H
X-Robots-Tag:noindex
X-PUBLISHED-TTL:PT1H
BEGIN:VTIMEZONE
TZID:America/New_York
BEGIN:DAYLIGHT
TZOFFSETFROM:-0500
TZOFFSETTO:-0400
TZNAME:EDT
DTSTART:20240310T070000
END:DAYLIGHT
BEGIN:STANDARD
TZOFFSETFROM:-0400
TZOFFSETTO:-0500
TZNAME:EST
DTSTART:20241103T060000
END:STANDARD
BEGIN:DAYLIGHT
TZOFFSETFROM:-0500
TZOFFSETTO:-0400
TZNAME:EDT
DTSTART:20250309T070000
END:DAYLIGHT
BEGIN:STANDARD
TZOFFSETFROM:-0400
TZOFFSETTO:-0500
TZNAME:EST
DTSTART:20251102T060000
END:STANDARD
BEGIN:DAYLIGHT
TZOFFSETFROM:-0500
TZOFFSETTO:-0400
TZNAME:EDT
DTSTART:20260308T070000
END:DAYLIGHT
BEGIN:STANDARD
TZOFFSETFROM:-0400
TZOFFSETTO:-0500
TZNAME:EST
DTSTART:20261101T060000
END:STANDARD
END:VTIMEZONE
BEGIN:VEVENT
DTSTART;VALUE=DATE:20250630
DTEND;VALUE=DATE:20250701
DTSTAMP:20260425T120912
CREATED:20250109T172016Z
LAST-MODIFIED:20250109T172016Z
UID:4768-1751241600-1751327999@ransomoaks.com
SUMMARY:Greenwood Clubhouse - Reserved
DESCRIPTION:
URL:https://ransomoaks.com/event/greenwood-clubhouse-reserved-144/
END:VEVENT
BEGIN:VEVENT
DTSTART;VALUE=DATE:20250616
DTEND;VALUE=DATE:20250617
DTSTAMP:20260425T120912
CREATED:20250109T171927Z
LAST-MODIFIED:20250109T171927Z
UID:4766-1750032000-1750118399@ransomoaks.com
SUMMARY:Greenwood Clubhouse - Reserved
DESCRIPTION:
URL:https://ransomoaks.com/event/greenwood-clubhouse-reserved-143/
END:VEVENT
BEGIN:VEVENT
DTSTART;VALUE=DATE:20250612
DTEND;VALUE=DATE:20250613
DTSTAMP:20260425T120912
CREATED:20250109T171901Z
LAST-MODIFIED:20250109T171901Z
UID:4764-1749686400-1749772799@ransomoaks.com
SUMMARY:Ransom Oaks Clubhouse - Reserved
DESCRIPTION:
URL:https://ransomoaks.com/event/ransom-oaks-clubhouse-reserved-191/
END:VEVENT
BEGIN:VEVENT
DTSTART;VALUE=DATE:20250611
DTEND;VALUE=DATE:20250612
DTSTAMP:20260425T120912
CREATED:20250109T171828Z
LAST-MODIFIED:20250109T171828Z
UID:4762-1749600000-1749686399@ransomoaks.com
SUMMARY:Greenwood Clubhouse - Reserved
DESCRIPTION:
URL:https://ransomoaks.com/event/greenwood-clubhouse-reserved-142/
END:VEVENT
BEGIN:VEVENT
DTSTART;VALUE=DATE:20250526
DTEND;VALUE=DATE:20250527
DTSTAMP:20260425T120912
CREATED:20250109T171719Z
LAST-MODIFIED:20250109T171719Z
UID:4760-1748217600-1748303999@ransomoaks.com
SUMMARY:Greenwood Clubhouse - Reserved
DESCRIPTION:
URL:https://ransomoaks.com/event/greenwood-clubhouse-reserved-141/
END:VEVENT
BEGIN:VEVENT
DTSTART;VALUE=DATE:20250514
DTEND;VALUE=DATE:20250515
DTSTAMP:20260425T120912
CREATED:20250109T171633Z
LAST-MODIFIED:20250109T171633Z
UID:4758-1747180800-1747267199@ransomoaks.com
SUMMARY:Greenwood Clubhouse - Reserved
DESCRIPTION:
URL:https://ransomoaks.com/event/greenwood-clubhouse-reserved-140/
END:VEVENT
BEGIN:VEVENT
DTSTART;VALUE=DATE:20250512
DTEND;VALUE=DATE:20250513
DTSTAMP:20260425T120912
CREATED:20250109T171536Z
LAST-MODIFIED:20250109T171536Z
UID:4756-1747008000-1747094399@ransomoaks.com
SUMMARY:Greenwood Clubhouse - Reserved
DESCRIPTION:
URL:https://ransomoaks.com/event/greenwood-clubhouse-reserved-139/
END:VEVENT
BEGIN:VEVENT
DTSTART;VALUE=DATE:20250508
DTEND;VALUE=DATE:20250509
DTSTAMP:20260425T120912
CREATED:20250109T171435Z
LAST-MODIFIED:20250109T171435Z
UID:4754-1746662400-1746748799@ransomoaks.com
SUMMARY:Ransom Oaks Clubhouse - Reserved
DESCRIPTION:
URL:https://ransomoaks.com/event/ransom-oaks-clubhouse-reserved-190/
END:VEVENT
BEGIN:VEVENT
DTSTART;VALUE=DATE:20250428
DTEND;VALUE=DATE:20250429
DTSTAMP:20260425T120912
CREATED:20250422T155307Z
LAST-MODIFIED:20250422T155307Z
UID:4798-1745798400-1745884799@ransomoaks.com
SUMMARY:Ransom Oaks Clubhouse - Reserved
DESCRIPTION:
URL:https://ransomoaks.com/event/ransom-oaks-clubhouse-reserved-192/
END:VEVENT
BEGIN:VEVENT
DTSTART;VALUE=DATE:20250428
DTEND;VALUE=DATE:20250429
DTSTAMP:20260425T120912
CREATED:20250109T171341Z
LAST-MODIFIED:20250109T171341Z
UID:4752-1745798400-1745884799@ransomoaks.com
SUMMARY:Greenwood Clubhouse - Reserved
DESCRIPTION:
URL:https://ransomoaks.com/event/greenwood-clubhouse-reserved-138/
END:VEVENT
BEGIN:VEVENT
DTSTART;VALUE=DATE:20250417
DTEND;VALUE=DATE:20250418
DTSTAMP:20260425T120912
CREATED:20250109T171257Z
LAST-MODIFIED:20250109T171257Z
UID:4750-1744848000-1744934399@ransomoaks.com
SUMMARY:Ransom Oaks Clubhouse- Reserved
DESCRIPTION:
URL:https://ransomoaks.com/event/ransom-oaks-clubhouse-reserved-189/
END:VEVENT
BEGIN:VEVENT
DTSTART;VALUE=DATE:20250416
DTEND;VALUE=DATE:20250417
DTSTAMP:20260425T120912
CREATED:20250109T171223Z
LAST-MODIFIED:20250109T171223Z
UID:4748-1744761600-1744847999@ransomoaks.com
SUMMARY:Greenwood Clubhouse - Reserved
DESCRIPTION:
URL:https://ransomoaks.com/event/greenwood-clubhouse-reserved-137/
END:VEVENT
BEGIN:VEVENT
DTSTART;VALUE=DATE:20250414
DTEND;VALUE=DATE:20250415
DTSTAMP:20260425T120912
CREATED:20250109T171138Z
LAST-MODIFIED:20250109T171138Z
UID:4746-1744588800-1744675199@ransomoaks.com
SUMMARY:Greenwood Clubhouse - Reserved
DESCRIPTION:
URL:https://ransomoaks.com/event/greenwood-clubhouse-reserved-136/
END:VEVENT
BEGIN:VEVENT
DTSTART;VALUE=DATE:20250331
DTEND;VALUE=DATE:20250401
DTSTAMP:20260425T120912
CREATED:20250109T170818Z
LAST-MODIFIED:20250109T170944Z
UID:4744-1743379200-1743465599@ransomoaks.com
SUMMARY:Greenwood Clubhouse - Reserved
DESCRIPTION:
URL:https://ransomoaks.com/event/greenwood-clubhouse-reserved-135/
END:VEVENT
BEGIN:VEVENT
DTSTART;VALUE=DATE:20250330
DTEND;VALUE=DATE:20250331
DTSTAMP:20260425T120912
CREATED:20250109T170726Z
LAST-MODIFIED:20250109T170750Z
UID:4742-1743292800-1743379199@ransomoaks.com
SUMMARY:Ransom Oaks Clubhouse - Reserved
DESCRIPTION:
URL:https://ransomoaks.com/event/ransom-oaks-clubhouse-reserved-188/
END:VEVENT
BEGIN:VEVENT
DTSTART;VALUE=DATE:20250324
DTEND;VALUE=DATE:20250325
DTSTAMP:20260425T120912
CREATED:20250109T170625Z
LAST-MODIFIED:20250109T170625Z
UID:4740-1742774400-1742860799@ransomoaks.com
SUMMARY:Ransom Oaks Clubhouse - Reserved
DESCRIPTION:
URL:https://ransomoaks.com/event/ransom-oaks-clubhouse-reserved-187/
END:VEVENT
BEGIN:VEVENT
DTSTART;VALUE=DATE:20250312
DTEND;VALUE=DATE:20250313
DTSTAMP:20260425T120912
CREATED:20250109T170549Z
LAST-MODIFIED:20250109T170549Z
UID:4738-1741737600-1741823999@ransomoaks.com
SUMMARY:Greenwood Clubhouse - Reserved
DESCRIPTION:
URL:https://ransomoaks.com/event/greenwood-clubhouse-reserved-134/
END:VEVENT
BEGIN:VEVENT
DTSTART;VALUE=DATE:20250308
DTEND;VALUE=DATE:20250309
DTSTAMP:20260425T120912
CREATED:20250109T170508Z
LAST-MODIFIED:20250109T170508Z
UID:4736-1741392000-1741478399@ransomoaks.com
SUMMARY:Ransom Oaks Clubhouse - Reserved
DESCRIPTION:
URL:https://ransomoaks.com/event/ransom-oaks-clubhouse-reserved-186/
END:VEVENT
BEGIN:VEVENT
DTSTART;VALUE=DATE:20250307
DTEND;VALUE=DATE:20250308
DTSTAMP:20260425T120912
CREATED:20250109T170442Z
LAST-MODIFIED:20250109T170442Z
UID:4734-1741305600-1741391999@ransomoaks.com
SUMMARY:Ransom Oaks Clubhouse - Reserved
DESCRIPTION:
URL:https://ransomoaks.com/event/ransom-oaks-clubhouse-reserved-185/
END:VEVENT
BEGIN:VEVENT
DTSTART;VALUE=DATE:20250226
DTEND;VALUE=DATE:20250227
DTSTAMP:20260425T120912
CREATED:20250109T170132Z
LAST-MODIFIED:20250109T170132Z
UID:4730-1740528000-1740614399@ransomoaks.com
SUMMARY:Greenwood Clubhouse - Reserved
DESCRIPTION:Ransom Oaks annual assessment collection 10am – 12pm & 5pm – 7pm.
URL:https://ransomoaks.com/event/greenwood-clubhouse-reserved-133/
END:VEVENT
BEGIN:VEVENT
DTSTART;VALUE=DATE:20250224
DTEND;VALUE=DATE:20250225
DTSTAMP:20260425T120912
CREATED:20250109T164122Z
LAST-MODIFIED:20250109T170240Z
UID:4722-1740355200-1740441599@ransomoaks.com
SUMMARY:Ransom Oaks Clubhouse - Reserved
DESCRIPTION:Ransom Oaks annual assessment Collection 10am – 12pm & 5pm-7pm
URL:https://ransomoaks.com/event/ransom-oaks-clubhouse-reserved-183/
END:VEVENT
BEGIN:VEVENT
DTSTART;VALUE=DATE:20250224
DTEND;VALUE=DATE:20250225
DTSTAMP:20260425T120912
CREATED:20250109T170018Z
LAST-MODIFIED:20250109T170018Z
UID:4728-1740355200-1740441599@ransomoaks.com
SUMMARY:Greenwood Clubhouse - Reserved
DESCRIPTION:
URL:https://ransomoaks.com/event/greenwood-clubhouse-reserved-132/
END:VEVENT
BEGIN:VEVENT
DTSTART;VALUE=DATE:20250213
DTEND;VALUE=DATE:20250214
DTSTAMP:20260425T120912
CREATED:20250109T165939Z
LAST-MODIFIED:20250109T165939Z
UID:4726-1739404800-1739491199@ransomoaks.com
SUMMARY:Ransom Oaks Clubhouse - Reserved
DESCRIPTION:
URL:https://ransomoaks.com/event/ransom-oaks-clubhouse-reserved-184/
END:VEVENT
BEGIN:VEVENT
DTSTART;VALUE=DATE:20250210
DTEND;VALUE=DATE:20250211
DTSTAMP:20260425T120912
CREATED:20250109T164057Z
LAST-MODIFIED:20250109T164057Z
UID:4720-1739145600-1739231999@ransomoaks.com
SUMMARY:Greenwood Clubhouse - Reserved
DESCRIPTION:
URL:https://ransomoaks.com/event/greenwood-clubhouse-reserved-131/
END:VEVENT
BEGIN:VEVENT
DTSTART;VALUE=DATE:20250208
DTEND;VALUE=DATE:20250209
DTSTAMP:20260425T120912
CREATED:20250109T164023Z
LAST-MODIFIED:20250109T164023Z
UID:4718-1738972800-1739059199@ransomoaks.com
SUMMARY:Ransom Oaks Clubhouse - Reserved
DESCRIPTION:
URL:https://ransomoaks.com/event/ransom-oaks-clubhouse-reserved-182/
END:VEVENT
BEGIN:VEVENT
DTSTART;VALUE=DATE:20250129
DTEND;VALUE=DATE:20250130
DTSTAMP:20260425T120912
CREATED:20250109T163658Z
LAST-MODIFIED:20250109T170320Z
UID:4716-1738108800-1738195199@ransomoaks.com
SUMMARY:Greenwood Clubhouse - Reserved
DESCRIPTION:Ransom Oaks annual assessment collections 10am-12pm & 5pm – 7pm.
URL:https://ransomoaks.com/event/greenwood-clubhouse-reserved-130/
END:VEVENT
BEGIN:VEVENT
DTSTART;VALUE=DATE:20250127
DTEND;VALUE=DATE:20250128
DTSTAMP:20260425T120912
CREATED:20241121T170901Z
LAST-MODIFIED:20241121T170901Z
UID:4686-1737936000-1738022399@ransomoaks.com
SUMMARY:Greenwood Clubhouse - Reserved
DESCRIPTION:
URL:https://ransomoaks.com/event/greenwood-clubhouse-reserved-128/
END:VEVENT
BEGIN:VEVENT
DTSTART;VALUE=DATE:20250125
DTEND;VALUE=DATE:20250126
DTSTAMP:20260425T120912
CREATED:20250109T163521Z
LAST-MODIFIED:20250109T163521Z
UID:4714-1737763200-1737849599@ransomoaks.com
SUMMARY:Ransom Oaks Clubhouse - Reserved
DESCRIPTION:
URL:https://ransomoaks.com/event/ransom-oaks-clubhouse-reserved-181/
END:VEVENT
BEGIN:VEVENT
DTSTART;VALUE=DATE:20250125
DTEND;VALUE=DATE:20250126
DTSTAMP:20260425T120912
CREATED:20241121T170830Z
LAST-MODIFIED:20241121T170830Z
UID:4684-1737763200-1737849599@ransomoaks.com
SUMMARY:Greenwood Clubhouse - Reserved
DESCRIPTION:
URL:https://ransomoaks.com/event/greenwood-clubhouse-reserved-127/
END:VEVENT
BEGIN:VEVENT
DTSTART;VALUE=DATE:20250121
DTEND;VALUE=DATE:20250122
DTSTAMP:20260425T120912
CREATED:20241121T170751Z
LAST-MODIFIED:20241121T170751Z
UID:4682-1737417600-1737503999@ransomoaks.com
SUMMARY:Greenwood Clubhouse - Reserved
DESCRIPTION:
URL:https://ransomoaks.com/event/greenwood-clubhouse-reserved-126/
END:VEVENT
END:VCALENDAR