BEGIN:VCALENDAR
VERSION:2.0
PRODID:-//Ransom Oaks - ECPv6.15.13//NONSGML v1.0//EN
CALSCALE:GREGORIAN
METHOD:PUBLISH
X-WR-CALNAME:Ransom Oaks
X-ORIGINAL-URL:https://ransomoaks.com
X-WR-CALDESC:Events for Ransom Oaks
REFRESH-INTERVAL;VALUE=DURATION:PT1H
X-Robots-Tag:noindex
X-PUBLISHED-TTL:PT1H
BEGIN:VTIMEZONE
TZID:America/New_York
BEGIN:DAYLIGHT
TZOFFSETFROM:-0500
TZOFFSETTO:-0400
TZNAME:EDT
DTSTART:20220313T070000
END:DAYLIGHT
BEGIN:STANDARD
TZOFFSETFROM:-0400
TZOFFSETTO:-0500
TZNAME:EST
DTSTART:20221106T060000
END:STANDARD
BEGIN:DAYLIGHT
TZOFFSETFROM:-0500
TZOFFSETTO:-0400
TZNAME:EDT
DTSTART:20230312T070000
END:DAYLIGHT
BEGIN:STANDARD
TZOFFSETFROM:-0400
TZOFFSETTO:-0500
TZNAME:EST
DTSTART:20231105T060000
END:STANDARD
BEGIN:DAYLIGHT
TZOFFSETFROM:-0500
TZOFFSETTO:-0400
TZNAME:EDT
DTSTART:20240310T070000
END:DAYLIGHT
BEGIN:STANDARD
TZOFFSETFROM:-0400
TZOFFSETTO:-0500
TZNAME:EST
DTSTART:20241103T060000
END:STANDARD
END:VTIMEZONE
BEGIN:VEVENT
DTSTART;VALUE=DATE:20230828
DTEND;VALUE=DATE:20230829
DTSTAMP:20260426T002126
CREATED:20230622T161520Z
LAST-MODIFIED:20230622T161520Z
UID:4167-1693180800-1693267199@ransomoaks.com
SUMMARY:Greenwood Clubhouse - Reserved
DESCRIPTION:
URL:https://ransomoaks.com/event/greenwood-clubhouse-reserved-43/
END:VEVENT
BEGIN:VEVENT
DTSTART;VALUE=DATE:20230828
DTEND;VALUE=DATE:20230829
DTSTAMP:20260426T002126
CREATED:20230622T161451Z
LAST-MODIFIED:20230622T161451Z
UID:4165-1693180800-1693267199@ransomoaks.com
SUMMARY:Ransom Oaks Clubhouse - Reserved
DESCRIPTION:
URL:https://ransomoaks.com/event/ransom-oaks-clubhouse-reserved-97/
END:VEVENT
BEGIN:VEVENT
DTSTART;VALUE=DATE:20230824
DTEND;VALUE=DATE:20230825
DTSTAMP:20260426T002126
CREATED:20230515T171607Z
LAST-MODIFIED:20230515T171607Z
UID:4094-1692835200-1692921599@ransomoaks.com
SUMMARY:Ransom Oaks Clubhouse - Reserved
DESCRIPTION:
URL:https://ransomoaks.com/event/ransom-oaks-clubhouse-reserved-80/
END:VEVENT
BEGIN:VEVENT
DTSTART;TZID=America/New_York:20230822T160000
DTEND;TZID=America/New_York:20230822T200000
DTSTAMP:20260426T002126
CREATED:20230622T161358Z
LAST-MODIFIED:20230622T161358Z
UID:4161-1692720000-1692734400@ransomoaks.com
SUMMARY:Ransom Oaks Clubhouse - Reserved
DESCRIPTION:
URL:https://ransomoaks.com/event/ransom-oaks-clubhouse-reserved-95/
END:VEVENT
BEGIN:VEVENT
DTSTART;VALUE=DATE:20230819
DTEND;VALUE=DATE:20230820
DTSTAMP:20260426T002126
CREATED:20230515T171532Z
LAST-MODIFIED:20230515T171532Z
UID:4092-1692403200-1692489599@ransomoaks.com
SUMMARY:Greenwood Clubhouse - Reserved
DESCRIPTION:
URL:https://ransomoaks.com/event/greenwood-clubhouse-reserved-36/
END:VEVENT
BEGIN:VEVENT
DTSTART;VALUE=DATE:20230817
DTEND;VALUE=DATE:20230818
DTSTAMP:20260426T002126
CREATED:20230515T171039Z
LAST-MODIFIED:20230515T171039Z
UID:4079-1692230400-1692316799@ransomoaks.com
SUMMARY:Ransom Oaks Clubhouse - Reserved
DESCRIPTION:
URL:https://ransomoaks.com/event/ransom-oaks-clubhouse-reserved-78/
END:VEVENT
BEGIN:VEVENT
DTSTART;TZID=America/New_York:20230815T160000
DTEND;TZID=America/New_York:20230815T220000
DTSTAMP:20260426T002126
CREATED:20230515T171438Z
LAST-MODIFIED:20230515T171438Z
UID:4090-1692115200-1692136800@ransomoaks.com
SUMMARY:Greenwood Clubhouse - Reserved
DESCRIPTION:
URL:https://ransomoaks.com/event/greenwood-clubhouse-reserved-35/
END:VEVENT
BEGIN:VEVENT
DTSTART;TZID=America/New_York:20230815T160000
DTEND;TZID=America/New_York:20230815T200000
DTSTAMP:20260426T002126
CREATED:20230622T161307Z
LAST-MODIFIED:20230622T161307Z
UID:4159-1692115200-1692129600@ransomoaks.com
SUMMARY:Ransom Oaks Clubhouse - Reserved
DESCRIPTION:
URL:https://ransomoaks.com/event/ransom-oaks-clubhouse-reserved-94/
END:VEVENT
BEGIN:VEVENT
DTSTART;VALUE=DATE:20230814
DTEND;VALUE=DATE:20230815
DTSTAMP:20260426T002126
CREATED:20230515T171353Z
LAST-MODIFIED:20230515T171353Z
UID:4088-1691971200-1692057599@ransomoaks.com
SUMMARY:Greenwood Clubhouse - Reserved
DESCRIPTION:
URL:https://ransomoaks.com/event/greenwood-clubhouse-reserved-34/
END:VEVENT
BEGIN:VEVENT
DTSTART;TZID=America/New_York:20230811T180000
DTEND;TZID=America/New_York:20230811T230000
DTSTAMP:20260426T002126
CREATED:20230622T161213Z
LAST-MODIFIED:20230622T161213Z
UID:4157-1691776800-1691794800@ransomoaks.com
SUMMARY:Ransom Oaks Clubhouse - Reserved
DESCRIPTION:
URL:https://ransomoaks.com/event/ransom-oaks-clubhouse-reserved-93/
END:VEVENT
BEGIN:VEVENT
DTSTART;VALUE=DATE:20230810
DTEND;VALUE=DATE:20230811
DTSTAMP:20260426T002126
CREATED:20230515T171020Z
LAST-MODIFIED:20230515T171020Z
UID:4077-1691625600-1691711999@ransomoaks.com
SUMMARY:Ransom Oaks Clubhouse - Reserved
DESCRIPTION:
URL:https://ransomoaks.com/event/ransom-oaks-clubhouse-reserved-77/
END:VEVENT
BEGIN:VEVENT
DTSTART;VALUE=DATE:20230809
DTEND;VALUE=DATE:20230810
DTSTAMP:20260426T002126
CREATED:20230515T171318Z
LAST-MODIFIED:20230515T171318Z
UID:4086-1691539200-1691625599@ransomoaks.com
SUMMARY:Greenwood Clubhouse - Reserved
DESCRIPTION:
URL:https://ransomoaks.com/event/greenwood-clubhouse-reserved-33/
END:VEVENT
BEGIN:VEVENT
DTSTART;VALUE=DATE:20230808
DTEND;VALUE=DATE:20230809
DTSTAMP:20260426T002126
CREATED:20230515T171246Z
LAST-MODIFIED:20230515T171246Z
UID:4084-1691452800-1691539199@ransomoaks.com
SUMMARY:Greenwood Clubhouse - Reserved
DESCRIPTION:
URL:https://ransomoaks.com/event/greenwood-clubhouse-reserved-32/
END:VEVENT
BEGIN:VEVENT
DTSTART;VALUE=DATE:20230808
DTEND;VALUE=DATE:20230809
DTSTAMP:20260426T002126
CREATED:20230515T171210Z
LAST-MODIFIED:20230515T171210Z
UID:4082-1691452800-1691539199@ransomoaks.com
SUMMARY:Ransom Oaks Clubhouse- Reserved
DESCRIPTION:
URL:https://ransomoaks.com/event/ransom-oaks-clubhouse-reserved-79/
END:VEVENT
BEGIN:VEVENT
DTSTART;VALUE=DATE:20230803
DTEND;VALUE=DATE:20230804
DTSTAMP:20260426T002126
CREATED:20230515T171002Z
LAST-MODIFIED:20230515T171002Z
UID:4075-1691020800-1691107199@ransomoaks.com
SUMMARY:Ransom Oaks Clubhouse - Reserved
DESCRIPTION:
URL:https://ransomoaks.com/event/ransom-oaks-clubhouse-reserved-76/
END:VEVENT
BEGIN:VEVENT
DTSTART;TZID=America/New_York:20230801T160000
DTEND;TZID=America/New_York:20230801T200000
DTSTAMP:20260426T002126
CREATED:20230622T161111Z
LAST-MODIFIED:20230622T161111Z
UID:4155-1690905600-1690920000@ransomoaks.com
SUMMARY:Ransom Oaks Clubhouse - Reserved
DESCRIPTION:
URL:https://ransomoaks.com/event/ransom-oaks-clubhouse-reserved-92/
END:VEVENT
BEGIN:VEVENT
DTSTART;VALUE=DATE:20230731
DTEND;VALUE=DATE:20230801
DTSTAMP:20260426T002126
CREATED:20230622T160956Z
LAST-MODIFIED:20230622T160956Z
UID:4153-1690761600-1690847999@ransomoaks.com
SUMMARY:Ransom Oaks Clubhouse - Reserved
DESCRIPTION:
URL:https://ransomoaks.com/event/ransom-oaks-clubhouse-reserved-91/
END:VEVENT
BEGIN:VEVENT
DTSTART;VALUE=DATE:20230728
DTEND;VALUE=DATE:20230729
DTSTAMP:20260426T002126
CREATED:20230622T160915Z
LAST-MODIFIED:20230622T160915Z
UID:4151-1690502400-1690588799@ransomoaks.com
SUMMARY:Greenwood Clubhouse -Reserved
DESCRIPTION:
URL:https://ransomoaks.com/event/greenwood-clubhouse-reserved-39/
END:VEVENT
BEGIN:VEVENT
DTSTART;TZID=America/New_York:20230727T100000
DTEND;TZID=America/New_York:20230727T150000
DTSTAMP:20260426T002126
CREATED:20230515T170839Z
LAST-MODIFIED:20230515T170839Z
UID:4073-1690452000-1690470000@ransomoaks.com
SUMMARY:Ransom Oaks Clubhouse - Reserved
DESCRIPTION:
URL:https://ransomoaks.com/event/ransom-oaks-clubhouse-reserved-75/
END:VEVENT
BEGIN:VEVENT
DTSTART;TZID=America/New_York:20230725T160000
DTEND;TZID=America/New_York:20230725T200000
DTSTAMP:20260426T002126
CREATED:20230622T160834Z
LAST-MODIFIED:20230622T160834Z
UID:4149-1690300800-1690315200@ransomoaks.com
SUMMARY:Ransom Oaks Clubhouse - Reserved
DESCRIPTION:
URL:https://ransomoaks.com/event/ransom-oaks-clubhouse-reserved-90/
END:VEVENT
BEGIN:VEVENT
DTSTART;TZID=America/New_York:20230721T190000
DTEND;TZID=America/New_York:20230721T230000
DTSTAMP:20260426T002126
CREATED:20230622T160733Z
LAST-MODIFIED:20230622T160733Z
UID:4145-1689966000-1689980400@ransomoaks.com
SUMMARY:Ransom Oaks Clubhouse - Reserved
DESCRIPTION:
URL:https://ransomoaks.com/event/ransom-oaks-clubhouse-reserved-89/
END:VEVENT
BEGIN:VEVENT
DTSTART;TZID=America/New_York:20230720T180000
DTEND;TZID=America/New_York:20230720T220000
DTSTAMP:20260426T002126
CREATED:20230622T160519Z
LAST-MODIFIED:20230622T160519Z
UID:4141-1689876000-1689890400@ransomoaks.com
SUMMARY:Ransom Oaks Clubhouse - Reserved
DESCRIPTION:
URL:https://ransomoaks.com/event/ransom-oaks-clubhouse-reserved-81/
END:VEVENT
BEGIN:VEVENT
DTSTART;VALUE=DATE:20230720
DTEND;VALUE=DATE:20230721
DTSTAMP:20260426T002126
CREATED:20230515T170747Z
LAST-MODIFIED:20230515T170747Z
UID:4071-1689811200-1689897599@ransomoaks.com
SUMMARY:Ransom Oaks Clubhouse - Reserved
DESCRIPTION:
URL:https://ransomoaks.com/event/ransom-oaks-clubhouse-reserved-74/
END:VEVENT
BEGIN:VEVENT
DTSTART;TZID=America/New_York:20230718T160000
DTEND;TZID=America/New_York:20230718T200000
DTSTAMP:20260426T002126
CREATED:20230622T160435Z
LAST-MODIFIED:20230622T160435Z
UID:4139-1689696000-1689710400@ransomoaks.com
SUMMARY:Ransom Oaks Clubhouse - Reserved
DESCRIPTION:
URL:https://ransomoaks.com/event/ransom-oaks-clubhouse-reserved-71/
END:VEVENT
BEGIN:VEVENT
DTSTART;TZID=America/New_York:20230715T210000
DTEND;TZID=America/New_York:20230715T230000
DTSTAMP:20260426T002126
CREATED:20230622T160613Z
LAST-MODIFIED:20230622T160613Z
UID:4143-1689454800-1689462000@ransomoaks.com
SUMMARY:Eveningwood Pool - Reserved
DESCRIPTION:
URL:https://ransomoaks.com/event/eveningwood-pool-reserved/
END:VEVENT
BEGIN:VEVENT
DTSTART;VALUE=DATE:20230715
DTEND;VALUE=DATE:20230716
DTSTAMP:20260426T002126
CREATED:20230622T154555Z
LAST-MODIFIED:20230622T154555Z
UID:4131-1689379200-1689465599@ransomoaks.com
SUMMARY:Greenwood Clubhouse - Reserved
DESCRIPTION:
URL:https://ransomoaks.com/event/greenwood-clubhouse-reserved-45/
END:VEVENT
BEGIN:VEVENT
DTSTART;VALUE=DATE:20230715
DTEND;VALUE=DATE:20230716
DTSTAMP:20260426T002126
CREATED:20230515T170715Z
LAST-MODIFIED:20230515T170715Z
UID:4069-1689379200-1689465599@ransomoaks.com
SUMMARY:Ransom Oaks Clubhouse - Reserved
DESCRIPTION:
URL:https://ransomoaks.com/event/ransom-oaks-clubhouse-reserved-73/
END:VEVENT
BEGIN:VEVENT
DTSTART;VALUE=DATE:20230713
DTEND;VALUE=DATE:20230714
DTSTAMP:20260426T002126
CREATED:20230515T170630Z
LAST-MODIFIED:20230515T170630Z
UID:4067-1689206400-1689292799@ransomoaks.com
SUMMARY:Ransom Oaks Clubhouse - Reserved
DESCRIPTION:
URL:https://ransomoaks.com/event/ransom-oaks-clubhouse-reserved-72/
END:VEVENT
BEGIN:VEVENT
DTSTART;VALUE=DATE:20230712
DTEND;VALUE=DATE:20230713
DTSTAMP:20260426T002126
CREATED:20230515T170600Z
LAST-MODIFIED:20230515T170600Z
UID:4065-1689120000-1689206399@ransomoaks.com
SUMMARY:Greenwood Clubhouse - Reserved
DESCRIPTION:
URL:https://ransomoaks.com/event/greenwood-clubhouse-reserved-31/
END:VEVENT
BEGIN:VEVENT
DTSTART;TZID=America/New_York:20230711T160000
DTEND;TZID=America/New_York:20230711T200000
DTSTAMP:20260426T002126
CREATED:20230622T154508Z
LAST-MODIFIED:20230622T154508Z
UID:4129-1689091200-1689105600@ransomoaks.com
SUMMARY:Ransom Oaks Clubhouse - Reserved
DESCRIPTION:
URL:https://ransomoaks.com/event/ransom-oaks-clubhouse-reserved-88/
END:VEVENT
END:VCALENDAR