BEGIN:VCALENDAR
VERSION:2.0
PRODID:-//Ransom Oaks - ECPv6.15.13//NONSGML v1.0//EN
CALSCALE:GREGORIAN
METHOD:PUBLISH
X-WR-CALNAME:Ransom Oaks
X-ORIGINAL-URL:https://ransomoaks.com
X-WR-CALDESC:Events for Ransom Oaks
REFRESH-INTERVAL;VALUE=DURATION:PT1H
X-Robots-Tag:noindex
X-PUBLISHED-TTL:PT1H
BEGIN:VTIMEZONE
TZID:America/New_York
BEGIN:DAYLIGHT
TZOFFSETFROM:-0500
TZOFFSETTO:-0400
TZNAME:EDT
DTSTART:20220313T070000
END:DAYLIGHT
BEGIN:STANDARD
TZOFFSETFROM:-0400
TZOFFSETTO:-0500
TZNAME:EST
DTSTART:20221106T060000
END:STANDARD
BEGIN:DAYLIGHT
TZOFFSETFROM:-0500
TZOFFSETTO:-0400
TZNAME:EDT
DTSTART:20230312T070000
END:DAYLIGHT
BEGIN:STANDARD
TZOFFSETFROM:-0400
TZOFFSETTO:-0500
TZNAME:EST
DTSTART:20231105T060000
END:STANDARD
BEGIN:DAYLIGHT
TZOFFSETFROM:-0500
TZOFFSETTO:-0400
TZNAME:EDT
DTSTART:20240310T070000
END:DAYLIGHT
BEGIN:STANDARD
TZOFFSETFROM:-0400
TZOFFSETTO:-0500
TZNAME:EST
DTSTART:20241103T060000
END:STANDARD
END:VTIMEZONE
BEGIN:VEVENT
DTSTART;VALUE=DATE:20231023
DTEND;VALUE=DATE:20231024
DTSTAMP:20260425T214932
CREATED:20230622T162448Z
LAST-MODIFIED:20230622T162448Z
UID:4190-1698019200-1698105599@ransomoaks.com
SUMMARY:Greenwood Clubhouse - Reserved
DESCRIPTION:
URL:https://ransomoaks.com/event/greenwood-clubhouse-reserved-50/
END:VEVENT
BEGIN:VEVENT
DTSTART;VALUE=DATE:20231021
DTEND;VALUE=DATE:20231022
DTSTAMP:20260425T214932
CREATED:20231017T145551Z
LAST-MODIFIED:20231017T145551Z
UID:4313-1697846400-1697932799@ransomoaks.com
SUMMARY:Greenwood Clubhouse - Reserved
DESCRIPTION:
URL:https://ransomoaks.com/event/greenwood-clubhouse-reserved-52/
END:VEVENT
BEGIN:VEVENT
DTSTART;VALUE=DATE:20231021
DTEND;VALUE=DATE:20231022
DTSTAMP:20260425T214932
CREATED:20230914T175624Z
LAST-MODIFIED:20230914T175624Z
UID:4266-1697846400-1697932799@ransomoaks.com
SUMMARY:Ransom Oaks Clubhouse- Reserved
DESCRIPTION:
URL:https://ransomoaks.com/event/ransom-oaks-clubhouse-reserved-108/
END:VEVENT
BEGIN:VEVENT
DTSTART;TZID=America/New_York:20231019T170000
DTEND;TZID=America/New_York:20231019T210000
DTSTAMP:20260425T214932
CREATED:20230914T175554Z
LAST-MODIFIED:20230914T175554Z
UID:4264-1697734800-1697749200@ransomoaks.com
SUMMARY:Greenwood Clubhouse - Reserved
DESCRIPTION:
URL:https://ransomoaks.com/event/greenwood-clubhouse-reserved-60/
END:VEVENT
BEGIN:VEVENT
DTSTART;TZID=America/New_York:20231018T160000
DTEND;TZID=America/New_York:20231018T210000
DTSTAMP:20260425T214932
CREATED:20230914T175506Z
LAST-MODIFIED:20230914T175506Z
UID:4262-1697644800-1697662800@ransomoaks.com
SUMMARY:Ransom Oaks Clubhouse - Reserved
DESCRIPTION:
URL:https://ransomoaks.com/event/ransom-oaks-clubhouse-reserved-107/
END:VEVENT
BEGIN:VEVENT
DTSTART;VALUE=DATE:20231015
DTEND;VALUE=DATE:20231016
DTSTAMP:20260425T214932
CREATED:20230914T175423Z
LAST-MODIFIED:20230914T175423Z
UID:4260-1697328000-1697414399@ransomoaks.com
SUMMARY:Ransom Oaks Clubhouse- Reserved
DESCRIPTION:
URL:https://ransomoaks.com/event/ransom-oaks-clubhouse-reserved-106/
END:VEVENT
BEGIN:VEVENT
DTSTART;VALUE=DATE:20231014
DTEND;VALUE=DATE:20231015
DTSTAMP:20260425T214932
CREATED:20230914T175400Z
LAST-MODIFIED:20230914T175400Z
UID:4258-1697241600-1697327999@ransomoaks.com
SUMMARY:Ransom Oaks Clubhouse - Reserved
DESCRIPTION:
URL:https://ransomoaks.com/event/ransom-oaks-clubhouse-reserved-105/
END:VEVENT
BEGIN:VEVENT
DTSTART;VALUE=DATE:20231014
DTEND;VALUE=DATE:20231015
DTSTAMP:20260425T214932
CREATED:20230914T175335Z
LAST-MODIFIED:20230914T175335Z
UID:4256-1697241600-1697327999@ransomoaks.com
SUMMARY:Greenwood Clubhouse - Reserved
DESCRIPTION:
URL:https://ransomoaks.com/event/greenwood-clubhouse-reserved-59/
END:VEVENT
BEGIN:VEVENT
DTSTART;VALUE=DATE:20231013
DTEND;VALUE=DATE:20231014
DTSTAMP:20260425T214932
CREATED:20230914T172012Z
LAST-MODIFIED:20230914T172012Z
UID:4237-1697155200-1697241599@ransomoaks.com
SUMMARY:Greenwood Clubhouse - Reserved
DESCRIPTION:
URL:https://ransomoaks.com/event/greenwood-clubhouse-reserved-58/
END:VEVENT
BEGIN:VEVENT
DTSTART;VALUE=DATE:20231011
DTEND;VALUE=DATE:20231012
DTSTAMP:20260425T214932
CREATED:20230622T162418Z
LAST-MODIFIED:20230622T162418Z
UID:4188-1696982400-1697068799@ransomoaks.com
SUMMARY:Greenwood Clubhouse - Reserved
DESCRIPTION:
URL:https://ransomoaks.com/event/greenwood-clubhouse-reserved-49/
END:VEVENT
BEGIN:VEVENT
DTSTART;VALUE=DATE:20230930
DTEND;VALUE=DATE:20231001
DTSTAMP:20260425T214932
CREATED:20230914T171127Z
LAST-MODIFIED:20230914T171140Z
UID:4225-1696032000-1696118399@ransomoaks.com
SUMMARY:Greenwood Clubhouse - Reserved
DESCRIPTION:
URL:https://ransomoaks.com/event/greenwood-clubhouse-reserved-56/
END:VEVENT
BEGIN:VEVENT
DTSTART;TZID=America/New_York:20230926T160000
DTEND;TZID=America/New_York:20230926T200000
DTSTAMP:20260425T214932
CREATED:20230622T162336Z
LAST-MODIFIED:20230622T162337Z
UID:4186-1695744000-1695758400@ransomoaks.com
SUMMARY:Ransom Oaks Clubhouse - Reserved
DESCRIPTION:
URL:https://ransomoaks.com/event/ransom-oaks-clubhouse-reserved-103/
END:VEVENT
BEGIN:VEVENT
DTSTART;TZID=America/New_York:20230925T080000
DTEND;TZID=America/New_York:20230925T170000
DTSTAMP:20260425T214932
CREATED:20230914T171719Z
LAST-MODIFIED:20230914T171719Z
UID:4229-1695628800-1695661200@ransomoaks.com
SUMMARY:Ransom Oaks Clubhouse - Reserved
DESCRIPTION:
URL:https://ransomoaks.com/event/ransom-oaks-clubhouse-reserved-104/
END:VEVENT
BEGIN:VEVENT
DTSTART;VALUE=DATE:20230925
DTEND;VALUE=DATE:20230926
DTSTAMP:20260425T214932
CREATED:20230622T162301Z
LAST-MODIFIED:20230622T162301Z
UID:4184-1695600000-1695686399@ransomoaks.com
SUMMARY:Greenwood Clubhouse - Reserved
DESCRIPTION:
URL:https://ransomoaks.com/event/greenwood-clubhouse-reserved-48/
END:VEVENT
BEGIN:VEVENT
DTSTART;VALUE=DATE:20230924
DTEND;VALUE=DATE:20230925
DTSTAMP:20260425T214932
CREATED:20230914T171751Z
LAST-MODIFIED:20230914T171751Z
UID:4231-1695513600-1695599999@ransomoaks.com
SUMMARY:Greenwood Clubhouse - Reserved
DESCRIPTION:
URL:https://ransomoaks.com/event/greenwood-clubhouse-reserved-54/
END:VEVENT
BEGIN:VEVENT
DTSTART;TZID=America/New_York:20230919T160000
DTEND;TZID=America/New_York:20230919T200000
DTSTAMP:20260425T214932
CREATED:20230622T162222Z
LAST-MODIFIED:20230622T162222Z
UID:4182-1695139200-1695153600@ransomoaks.com
SUMMARY:Ransom Oaks Clubhouse - Reserved
DESCRIPTION:
URL:https://ransomoaks.com/event/ransom-oaks-clubhouse-reserved-102/
END:VEVENT
BEGIN:VEVENT
DTSTART;TZID=America/New_York:20230912T160000
DTEND;TZID=America/New_York:20230912T200000
DTSTAMP:20260425T214932
CREATED:20230622T161833Z
LAST-MODIFIED:20230622T161833Z
UID:4175-1694534400-1694548800@ransomoaks.com
SUMMARY:Ransom Oaks Clubhouse - Reserved
DESCRIPTION:
URL:https://ransomoaks.com/event/ransom-oaks-clubhouse-reserved-101/
END:VEVENT
BEGIN:VEVENT
DTSTART;VALUE=DATE:20230912
DTEND;VALUE=DATE:20230913
DTSTAMP:20260425T214932
CREATED:20230515T171719Z
LAST-MODIFIED:20230515T171719Z
UID:4098-1694476800-1694563199@ransomoaks.com
SUMMARY:Greenwood Clubhouse - Reserved
DESCRIPTION:
URL:https://ransomoaks.com/event/greenwood-clubhouse-reserved-38/
END:VEVENT
BEGIN:VEVENT
DTSTART;TZID=America/New_York:20230905T160000
DTEND;TZID=America/New_York:20230905T200000
DTSTAMP:20260425T214932
CREATED:20230622T161700Z
LAST-MODIFIED:20230622T161700Z
UID:4171-1693929600-1693944000@ransomoaks.com
SUMMARY:Ransom Oaks Clubhouse - Reserved
DESCRIPTION:
URL:https://ransomoaks.com/event/ransom-oaks-clubhouse-reserved-99/
END:VEVENT
BEGIN:VEVENT
DTSTART;VALUE=DATE:20230904
DTEND;VALUE=DATE:20230905
DTSTAMP:20260425T214932
CREATED:20230622T161728Z
LAST-MODIFIED:20230622T161728Z
UID:4173-1693785600-1693871999@ransomoaks.com
SUMMARY:Ransom Oaks Clubhouse - Reserved
DESCRIPTION:
URL:https://ransomoaks.com/event/ransom-oaks-clubhouse-reserved-100/
END:VEVENT
BEGIN:VEVENT
DTSTART;TZID=America/New_York:20230829T160000
DTEND;TZID=America/New_York:20230829T200000
DTSTAMP:20260425T214932
CREATED:20230622T161600Z
LAST-MODIFIED:20230622T161600Z
UID:4169-1693324800-1693339200@ransomoaks.com
SUMMARY:Ransom Oaks Clubhouse - Reserved
DESCRIPTION:
URL:https://ransomoaks.com/event/ransom-oaks-clubhouse-reserved-98/
END:VEVENT
BEGIN:VEVENT
DTSTART;VALUE=DATE:20230828
DTEND;VALUE=DATE:20230829
DTSTAMP:20260425T214932
CREATED:20230622T161520Z
LAST-MODIFIED:20230622T161520Z
UID:4167-1693180800-1693267199@ransomoaks.com
SUMMARY:Greenwood Clubhouse - Reserved
DESCRIPTION:
URL:https://ransomoaks.com/event/greenwood-clubhouse-reserved-43/
END:VEVENT
BEGIN:VEVENT
DTSTART;VALUE=DATE:20230828
DTEND;VALUE=DATE:20230829
DTSTAMP:20260425T214932
CREATED:20230622T161451Z
LAST-MODIFIED:20230622T161451Z
UID:4165-1693180800-1693267199@ransomoaks.com
SUMMARY:Ransom Oaks Clubhouse - Reserved
DESCRIPTION:
URL:https://ransomoaks.com/event/ransom-oaks-clubhouse-reserved-97/
END:VEVENT
BEGIN:VEVENT
DTSTART;VALUE=DATE:20230824
DTEND;VALUE=DATE:20230825
DTSTAMP:20260425T214932
CREATED:20230515T171607Z
LAST-MODIFIED:20230515T171607Z
UID:4094-1692835200-1692921599@ransomoaks.com
SUMMARY:Ransom Oaks Clubhouse - Reserved
DESCRIPTION:
URL:https://ransomoaks.com/event/ransom-oaks-clubhouse-reserved-80/
END:VEVENT
BEGIN:VEVENT
DTSTART;TZID=America/New_York:20230822T160000
DTEND;TZID=America/New_York:20230822T200000
DTSTAMP:20260425T214932
CREATED:20230622T161358Z
LAST-MODIFIED:20230622T161358Z
UID:4161-1692720000-1692734400@ransomoaks.com
SUMMARY:Ransom Oaks Clubhouse - Reserved
DESCRIPTION:
URL:https://ransomoaks.com/event/ransom-oaks-clubhouse-reserved-95/
END:VEVENT
BEGIN:VEVENT
DTSTART;VALUE=DATE:20230819
DTEND;VALUE=DATE:20230820
DTSTAMP:20260425T214932
CREATED:20230515T171532Z
LAST-MODIFIED:20230515T171532Z
UID:4092-1692403200-1692489599@ransomoaks.com
SUMMARY:Greenwood Clubhouse - Reserved
DESCRIPTION:
URL:https://ransomoaks.com/event/greenwood-clubhouse-reserved-36/
END:VEVENT
BEGIN:VEVENT
DTSTART;VALUE=DATE:20230817
DTEND;VALUE=DATE:20230818
DTSTAMP:20260425T214932
CREATED:20230515T171039Z
LAST-MODIFIED:20230515T171039Z
UID:4079-1692230400-1692316799@ransomoaks.com
SUMMARY:Ransom Oaks Clubhouse - Reserved
DESCRIPTION:
URL:https://ransomoaks.com/event/ransom-oaks-clubhouse-reserved-78/
END:VEVENT
BEGIN:VEVENT
DTSTART;TZID=America/New_York:20230815T160000
DTEND;TZID=America/New_York:20230815T220000
DTSTAMP:20260425T214932
CREATED:20230515T171438Z
LAST-MODIFIED:20230515T171438Z
UID:4090-1692115200-1692136800@ransomoaks.com
SUMMARY:Greenwood Clubhouse - Reserved
DESCRIPTION:
URL:https://ransomoaks.com/event/greenwood-clubhouse-reserved-35/
END:VEVENT
BEGIN:VEVENT
DTSTART;TZID=America/New_York:20230815T160000
DTEND;TZID=America/New_York:20230815T200000
DTSTAMP:20260425T214932
CREATED:20230622T161307Z
LAST-MODIFIED:20230622T161307Z
UID:4159-1692115200-1692129600@ransomoaks.com
SUMMARY:Ransom Oaks Clubhouse - Reserved
DESCRIPTION:
URL:https://ransomoaks.com/event/ransom-oaks-clubhouse-reserved-94/
END:VEVENT
BEGIN:VEVENT
DTSTART;VALUE=DATE:20230814
DTEND;VALUE=DATE:20230815
DTSTAMP:20260425T214932
CREATED:20230515T171353Z
LAST-MODIFIED:20230515T171353Z
UID:4088-1691971200-1692057599@ransomoaks.com
SUMMARY:Greenwood Clubhouse - Reserved
DESCRIPTION:
URL:https://ransomoaks.com/event/greenwood-clubhouse-reserved-34/
END:VEVENT
END:VCALENDAR