BEGIN:VCALENDAR
VERSION:2.0
PRODID:-//Ransom Oaks - ECPv6.15.13//NONSGML v1.0//EN
CALSCALE:GREGORIAN
METHOD:PUBLISH
X-WR-CALNAME:Ransom Oaks
X-ORIGINAL-URL:https://ransomoaks.com
X-WR-CALDESC:Events for Ransom Oaks
REFRESH-INTERVAL;VALUE=DURATION:PT1H
X-Robots-Tag:noindex
X-PUBLISHED-TTL:PT1H
BEGIN:VTIMEZONE
TZID:America/New_York
BEGIN:DAYLIGHT
TZOFFSETFROM:-0500
TZOFFSETTO:-0400
TZNAME:EDT
DTSTART:20220313T070000
END:DAYLIGHT
BEGIN:STANDARD
TZOFFSETFROM:-0400
TZOFFSETTO:-0500
TZNAME:EST
DTSTART:20221106T060000
END:STANDARD
BEGIN:DAYLIGHT
TZOFFSETFROM:-0500
TZOFFSETTO:-0400
TZNAME:EDT
DTSTART:20230312T070000
END:DAYLIGHT
BEGIN:STANDARD
TZOFFSETFROM:-0400
TZOFFSETTO:-0500
TZNAME:EST
DTSTART:20231105T060000
END:STANDARD
BEGIN:DAYLIGHT
TZOFFSETFROM:-0500
TZOFFSETTO:-0400
TZNAME:EDT
DTSTART:20240310T070000
END:DAYLIGHT
BEGIN:STANDARD
TZOFFSETFROM:-0400
TZOFFSETTO:-0500
TZNAME:EST
DTSTART:20241103T060000
END:STANDARD
END:VTIMEZONE
BEGIN:VEVENT
DTSTART;TZID=America/New_York:20230626T080000
DTEND;TZID=America/New_York:20230626T140000
DTSTAMP:20260425T232854
CREATED:20230622T152815Z
LAST-MODIFIED:20230622T152815Z
UID:4115-1687766400-1687788000@ransomoaks.com
SUMMARY:Ransom Oaks Clubhouse- Reserved
DESCRIPTION:
URL:https://ransomoaks.com/event/ransom-oaks-clubhouse-reserved-84/
END:VEVENT
BEGIN:VEVENT
DTSTART;TZID=America/New_York:20230625T080000
DTEND;TZID=America/New_York:20230625T140000
DTSTAMP:20260425T232854
CREATED:20230622T152624Z
LAST-MODIFIED:20230622T152624Z
UID:4111-1687680000-1687701600@ransomoaks.com
SUMMARY:Greenwood Clubhouse - Reserved
DESCRIPTION:
URL:https://ransomoaks.com/event/greenwood-clubhouse-reserved-41/
END:VEVENT
BEGIN:VEVENT
DTSTART;TZID=America/New_York:20230624T160000
DTEND;TZID=America/New_York:20230624T200000
DTSTAMP:20260425T232854
CREATED:20230515T170109Z
LAST-MODIFIED:20230515T170109Z
UID:4053-1687622400-1687636800@ransomoaks.com
SUMMARY:Ransom Oaks Clubhouse - Reserved
DESCRIPTION:
URL:https://ransomoaks.com/event/ransom-oaks-clubhouse-reserved-67/
END:VEVENT
BEGIN:VEVENT
DTSTART;VALUE=DATE:20230624
DTEND;VALUE=DATE:20230625
DTSTAMP:20260425T232854
CREATED:20230622T152531Z
LAST-MODIFIED:20230622T152531Z
UID:4109-1687564800-1687651199@ransomoaks.com
SUMMARY:Greenwood Clubhouse - Reserved
DESCRIPTION:
URL:https://ransomoaks.com/event/greenwood-clubhouse-reserved-40/
END:VEVENT
BEGIN:VEVENT
DTSTART;TZID=America/New_York:20230622T160000
DTEND;TZID=America/New_York:20230622T200000
DTSTAMP:20260425T232854
CREATED:20230622T152300Z
LAST-MODIFIED:20230622T152300Z
UID:4105-1687449600-1687464000@ransomoaks.com
SUMMARY:Ransom Oaks Clubhouse - Reserved
DESCRIPTION:
URL:https://ransomoaks.com/event/ransom-oaks-clubhouse-reserved-82/
END:VEVENT
BEGIN:VEVENT
DTSTART;VALUE=DATE:20230622
DTEND;VALUE=DATE:20230623
DTSTAMP:20260425T232854
CREATED:20230622T161424Z
LAST-MODIFIED:20230622T161424Z
UID:4163-1687392000-1687478399@ransomoaks.com
SUMMARY:Ransom Oaks Clubhouse - Reserved
DESCRIPTION:
URL:https://ransomoaks.com/event/ransom-oaks-clubhouse-reserved-96/
END:VEVENT
BEGIN:VEVENT
DTSTART;VALUE=DATE:20230622
DTEND;VALUE=DATE:20230623
DTSTAMP:20260425T232854
CREATED:20230622T160759Z
LAST-MODIFIED:20230622T160759Z
UID:4147-1687392000-1687478399@ransomoaks.com
SUMMARY:Greenwood Clubhouse - Reserved
DESCRIPTION:
URL:https://ransomoaks.com/event/greenwood-clubhouse-reserved-37/
END:VEVENT
BEGIN:VEVENT
DTSTART;TZID=America/New_York:20230619T180000
DTEND;TZID=America/New_York:20230619T220000
DTSTAMP:20260425T232854
CREATED:20230515T165941Z
LAST-MODIFIED:20230515T165941Z
UID:4049-1687197600-1687212000@ransomoaks.com
SUMMARY:Greenwood Clubhouse - Reserved
DESCRIPTION:
URL:https://ransomoaks.com/event/greenwood-clubhouse-reserved-29/
END:VEVENT
BEGIN:VEVENT
DTSTART;VALUE=DATE:20230615
DTEND;VALUE=DATE:20230616
DTSTAMP:20260425T232854
CREATED:20230515T165824Z
LAST-MODIFIED:20230515T165824Z
UID:4047-1686787200-1686873599@ransomoaks.com
SUMMARY:Ransom Oaks Clubhouse - Reserved
DESCRIPTION:
URL:https://ransomoaks.com/event/ransom-oaks-clubhouse-reserved-65/
END:VEVENT
BEGIN:VEVENT
DTSTART;VALUE=DATE:20230612
DTEND;VALUE=DATE:20230613
DTSTAMP:20260425T232854
CREATED:20230515T165745Z
LAST-MODIFIED:20230515T165745Z
UID:4045-1686528000-1686614399@ransomoaks.com
SUMMARY:Ransom Oaks Clubhouse - Reserved
DESCRIPTION:
URL:https://ransomoaks.com/event/ransom-oaks-clubhouse-reserved-64/
END:VEVENT
BEGIN:VEVENT
DTSTART;VALUE=DATE:20230610
DTEND;VALUE=DATE:20230611
DTSTAMP:20260425T232854
CREATED:20230515T165717Z
LAST-MODIFIED:20230515T165717Z
UID:4043-1686355200-1686441599@ransomoaks.com
SUMMARY:Ransom Oaks Clubhouse - Reserved
DESCRIPTION:
URL:https://ransomoaks.com/event/ransom-oaks-clubhouse-reserved-63/
END:VEVENT
BEGIN:VEVENT
DTSTART;TZID=America/New_York:20230606T160000
DTEND;TZID=America/New_York:20230606T210000
DTSTAMP:20260425T232854
CREATED:20230515T165641Z
LAST-MODIFIED:20230515T165641Z
UID:4041-1686067200-1686085200@ransomoaks.com
SUMMARY:Greenwood Clubhouse - Reserved
DESCRIPTION:
URL:https://ransomoaks.com/event/greenwood-clubhouse-reserved-28/
END:VEVENT
BEGIN:VEVENT
DTSTART;VALUE=DATE:20230603
DTEND;VALUE=DATE:20230604
DTSTAMP:20260425T232854
CREATED:20230515T165557Z
LAST-MODIFIED:20230515T165557Z
UID:4039-1685750400-1685836799@ransomoaks.com
SUMMARY:Ransom Oaks Clubhouse - Reserved
DESCRIPTION:
URL:https://ransomoaks.com/event/ransom-oaks-clubhouse-reserved-62/
END:VEVENT
BEGIN:VEVENT
DTSTART;VALUE=DATE:20230529
DTEND;VALUE=DATE:20230530
DTSTAMP:20260425T232854
CREATED:20230307T181500Z
LAST-MODIFIED:20230307T181500Z
UID:4003-1685318400-1685404799@ransomoaks.com
SUMMARY:Greenwood Clubhouse - Reserved
DESCRIPTION:
URL:https://ransomoaks.com/event/greenwood-clubhouse-reserved-26/
END:VEVENT
BEGIN:VEVENT
DTSTART;VALUE=DATE:20230529
DTEND;VALUE=DATE:20230530
DTSTAMP:20260425T232854
CREATED:20230203T173216Z
LAST-MODIFIED:20230203T173216Z
UID:3981-1685318400-1685404799@ransomoaks.com
SUMMARY:Ransom Oaks Clubhouse - Reserved
DESCRIPTION:
URL:https://ransomoaks.com/event/ransom-oaks-clubhouse-reserved-57/
END:VEVENT
BEGIN:VEVENT
DTSTART;VALUE=DATE:20230528
DTEND;VALUE=DATE:20230529
DTSTAMP:20260425T232854
CREATED:20230203T173125Z
LAST-MODIFIED:20230203T173125Z
UID:3979-1685232000-1685318399@ransomoaks.com
SUMMARY:Greenwood Clubhouse - Reserved
DESCRIPTION:
URL:https://ransomoaks.com/event/greenwood-clubhouse-reserved-23/
END:VEVENT
BEGIN:VEVENT
DTSTART;VALUE=DATE:20230528
DTEND;VALUE=DATE:20230529
DTSTAMP:20260425T232854
CREATED:20230203T173049Z
LAST-MODIFIED:20230203T173049Z
UID:3977-1685232000-1685318399@ransomoaks.com
SUMMARY:Ransom Oaks Clubhouse - Reserved
DESCRIPTION:
URL:https://ransomoaks.com/event/ransom-oaks-clubhouse-reserved-56/
END:VEVENT
BEGIN:VEVENT
DTSTART;VALUE=DATE:20230527
DTEND;VALUE=DATE:20230528
DTSTAMP:20260425T232854
CREATED:20230203T173024Z
LAST-MODIFIED:20230203T173024Z
UID:3975-1685145600-1685231999@ransomoaks.com
SUMMARY:Greenwood Clubhouse - Reserved
DESCRIPTION:
URL:https://ransomoaks.com/event/greenwood-clubhouse-reserved-22/
END:VEVENT
BEGIN:VEVENT
DTSTART;VALUE=DATE:20230527
DTEND;VALUE=DATE:20230528
DTSTAMP:20260425T232854
CREATED:20230203T172953Z
LAST-MODIFIED:20230203T172953Z
UID:3973-1685145600-1685231999@ransomoaks.com
SUMMARY:Ransom Oaks Clubhouse - Reserved
DESCRIPTION:
URL:https://ransomoaks.com/event/ransom-oaks-clubhouse-reserved-55/
END:VEVENT
BEGIN:VEVENT
DTSTART;VALUE=DATE:20230522
DTEND;VALUE=DATE:20230523
DTSTAMP:20260425T232854
CREATED:20230515T165350Z
LAST-MODIFIED:20230515T165350Z
UID:4037-1684713600-1684799999@ransomoaks.com
SUMMARY:Ransom Oaks Clubhouse - Reserved
DESCRIPTION:
URL:https://ransomoaks.com/event/ransom-oaks-clubhouse-reserved-61/
END:VEVENT
BEGIN:VEVENT
DTSTART;VALUE=DATE:20230521
DTEND;VALUE=DATE:20230522
DTSTAMP:20260425T232854
CREATED:20230203T172916Z
LAST-MODIFIED:20230203T172916Z
UID:3971-1684627200-1684713599@ransomoaks.com
SUMMARY:Greenwood Clubhouse - Reserved
DESCRIPTION:
URL:https://ransomoaks.com/event/greenwood-clubhouse-reserved-21/
END:VEVENT
BEGIN:VEVENT
DTSTART;VALUE=DATE:20230521
DTEND;VALUE=DATE:20230522
DTSTAMP:20260425T232854
CREATED:20230203T172844Z
LAST-MODIFIED:20230203T172844Z
UID:3969-1684627200-1684713599@ransomoaks.com
SUMMARY:Ransom Oaks Clubhouse - Reserved
DESCRIPTION:
URL:https://ransomoaks.com/event/ransom-oaks-clubhouse-reserved-54/
END:VEVENT
BEGIN:VEVENT
DTSTART;VALUE=DATE:20230520
DTEND;VALUE=DATE:20230521
DTSTAMP:20260425T232854
CREATED:20230203T172727Z
LAST-MODIFIED:20230203T172727Z
UID:3967-1684540800-1684627199@ransomoaks.com
SUMMARY:Greenwood Clubhouse - Reserved
DESCRIPTION:
URL:https://ransomoaks.com/event/greenwood-clubhouse-reserved-19/
END:VEVENT
BEGIN:VEVENT
DTSTART;VALUE=DATE:20230520
DTEND;VALUE=DATE:20230521
DTSTAMP:20260425T232854
CREATED:20230203T172657Z
LAST-MODIFIED:20230203T172657Z
UID:3965-1684540800-1684627199@ransomoaks.com
SUMMARY:Ransom Oaks Clubhouse - Reserved
DESCRIPTION:
URL:https://ransomoaks.com/event/ransom-oaks-clubhouse-reserved-53/
END:VEVENT
BEGIN:VEVENT
DTSTART;VALUE=DATE:20230519
DTEND;VALUE=DATE:20230520
DTSTAMP:20260425T232854
CREATED:20230515T165230Z
LAST-MODIFIED:20230515T165230Z
UID:4035-1684454400-1684540799@ransomoaks.com
SUMMARY:Greenwood Clubhouse - Reserved
DESCRIPTION:
URL:https://ransomoaks.com/event/greenwood-clubhouse-reserved-27/
END:VEVENT
BEGIN:VEVENT
DTSTART;VALUE=DATE:20230515
DTEND;VALUE=DATE:20230516
DTSTAMP:20260425T232854
CREATED:20230203T172620Z
LAST-MODIFIED:20230203T172620Z
UID:3963-1684108800-1684195199@ransomoaks.com
SUMMARY:Ransom Oaks Clubhouse - Reserved
DESCRIPTION:
URL:https://ransomoaks.com/event/ransom-oaks-clubhouse-reserved-52/
END:VEVENT
BEGIN:VEVENT
DTSTART;VALUE=DATE:20230506
DTEND;VALUE=DATE:20230507
DTSTAMP:20260425T232854
CREATED:20230203T172541Z
LAST-MODIFIED:20230203T172541Z
UID:3961-1683331200-1683417599@ransomoaks.com
SUMMARY:Ransom Oaks Clubhouse - Reserved
DESCRIPTION:
URL:https://ransomoaks.com/event/ransom-oaks-clubhouse-reserved-51/
END:VEVENT
BEGIN:VEVENT
DTSTART;VALUE=DATE:20230501
DTEND;VALUE=DATE:20230502
DTSTAMP:20260425T232854
CREATED:20230203T172508Z
LAST-MODIFIED:20230203T172508Z
UID:3959-1682899200-1682985599@ransomoaks.com
SUMMARY:Ransom Oaks Clubhouse - Reserved
DESCRIPTION:
URL:https://ransomoaks.com/event/ransom-oaks-clubhouse-reserved-50/
END:VEVENT
BEGIN:VEVENT
DTSTART;VALUE=DATE:20230429
DTEND;VALUE=DATE:20230430
DTSTAMP:20260425T232854
CREATED:20221103T180834Z
LAST-MODIFIED:20221103T180834Z
UID:3914-1682726400-1682812799@ransomoaks.com
SUMMARY:Ransom Oaks Clubhouse - Reserved
DESCRIPTION:
URL:https://ransomoaks.com/event/ransom-oaks-clubhouse-reserved-43/
END:VEVENT
BEGIN:VEVENT
DTSTART;VALUE=DATE:20230417
DTEND;VALUE=DATE:20230418
DTSTAMP:20260425T232854
CREATED:20221103T180817Z
LAST-MODIFIED:20221103T180817Z
UID:3912-1681689600-1681775999@ransomoaks.com
SUMMARY:Ransom Oaks Clubhouse - Reserved
DESCRIPTION:
URL:https://ransomoaks.com/event/ransom-oaks-clubhouse-reserved-42/
END:VEVENT
END:VCALENDAR