BEGIN:VCALENDAR
VERSION:2.0
PRODID:-//Ransom Oaks - ECPv6.15.13//NONSGML v1.0//EN
CALSCALE:GREGORIAN
METHOD:PUBLISH
X-ORIGINAL-URL:https://ransomoaks.com
X-WR-CALDESC:Events for Ransom Oaks
REFRESH-INTERVAL;VALUE=DURATION:PT1H
X-Robots-Tag:noindex
X-PUBLISHED-TTL:PT1H
BEGIN:VTIMEZONE
TZID:America/New_York
BEGIN:DAYLIGHT
TZOFFSETFROM:-0500
TZOFFSETTO:-0400
TZNAME:EDT
DTSTART:20250309T070000
END:DAYLIGHT
BEGIN:STANDARD
TZOFFSETFROM:-0400
TZOFFSETTO:-0500
TZNAME:EST
DTSTART:20251102T060000
END:STANDARD
BEGIN:DAYLIGHT
TZOFFSETFROM:-0500
TZOFFSETTO:-0400
TZNAME:EDT
DTSTART:20260308T070000
END:DAYLIGHT
BEGIN:STANDARD
TZOFFSETFROM:-0400
TZOFFSETTO:-0500
TZNAME:EST
DTSTART:20261101T060000
END:STANDARD
BEGIN:DAYLIGHT
TZOFFSETFROM:-0500
TZOFFSETTO:-0400
TZNAME:EDT
DTSTART:20270314T070000
END:DAYLIGHT
BEGIN:STANDARD
TZOFFSETFROM:-0400
TZOFFSETTO:-0500
TZNAME:EST
DTSTART:20271107T060000
END:STANDARD
END:VTIMEZONE
BEGIN:VEVENT
DTSTART;VALUE=DATE:20260113
DTEND;VALUE=DATE:20260114
DTSTAMP:20260425T074832
CREATED:20251120T165333Z
LAST-MODIFIED:20251120T165333Z
UID:4925-1768262400-1768348799@ransomoaks.com
SUMMARY:Ransom Oaks Clubhouse - Reserved
DESCRIPTION:
URL:https://ransomoaks.com/event/ransom-oaks-clubhouse-reserved-211/
END:VEVENT
BEGIN:VEVENT
DTSTART;VALUE=DATE:20260114
DTEND;VALUE=DATE:20260115
DTSTAMP:20260425T074832
CREATED:20251120T165201Z
LAST-MODIFIED:20251120T165201Z
UID:4919-1768348800-1768435199@ransomoaks.com
SUMMARY:Ransom Oaks Clubhouse - Reserved
DESCRIPTION:
URL:https://ransomoaks.com/event/ransom-oaks-clubhouse-reserved-208/
END:VEVENT
BEGIN:VEVENT
DTSTART;VALUE=DATE:20260121
DTEND;VALUE=DATE:20260122
DTSTAMP:20260425T074832
CREATED:20251120T165219Z
LAST-MODIFIED:20251120T165219Z
UID:4921-1768953600-1769039999@ransomoaks.com
SUMMARY:Ransom Oaks Clubhouse - Reserved
DESCRIPTION:
URL:https://ransomoaks.com/event/ransom-oaks-clubhouse-reserved-209/
END:VEVENT
BEGIN:VEVENT
DTSTART;VALUE=DATE:20260126
DTEND;VALUE=DATE:20260127
DTSTAMP:20260425T074832
CREATED:20251120T165530Z
LAST-MODIFIED:20251120T165530Z
UID:4927-1769385600-1769471999@ransomoaks.com
SUMMARY:Greenwood Clubhouse - Reserved
DESCRIPTION:
URL:https://ransomoaks.com/event/greenwood-clubhouse-reserved-152/
END:VEVENT
BEGIN:VEVENT
DTSTART;VALUE=DATE:20260128
DTEND;VALUE=DATE:20260129
DTSTAMP:20260425T074832
CREATED:20251120T165235Z
LAST-MODIFIED:20251120T165235Z
UID:4923-1769558400-1769644799@ransomoaks.com
SUMMARY:Ransom Oaks Clubhouse - Reserved
DESCRIPTION:
URL:https://ransomoaks.com/event/ransom-oaks-clubhouse-reserved-210/
END:VEVENT
BEGIN:VEVENT
DTSTART;VALUE=DATE:20260131
DTEND;VALUE=DATE:20260201
DTSTAMP:20260425T074832
CREATED:20251120T165554Z
LAST-MODIFIED:20251120T165554Z
UID:4929-1769817600-1769903999@ransomoaks.com
SUMMARY:Greenwood Clubhouse - Reserved
DESCRIPTION:
URL:https://ransomoaks.com/event/greenwood-clubhouse-reserved-153/
END:VEVENT
BEGIN:VEVENT
DTSTART;VALUE=DATE:20260204
DTEND;VALUE=DATE:20260402
DTSTAMP:20260425T074832
CREATED:20251120T165622Z
LAST-MODIFIED:20251120T165622Z
UID:4931-1770163200-1775087999@ransomoaks.com
SUMMARY:Ransom Oaks Clubhouse - Reserved
DESCRIPTION:
URL:https://ransomoaks.com/event/ransom-oaks-clubhouse-reserved-212/
END:VEVENT
BEGIN:VEVENT
DTSTART;VALUE=DATE:20260210
DTEND;VALUE=DATE:20260211
DTSTAMP:20260425T074832
CREATED:20251120T165755Z
LAST-MODIFIED:20251120T165755Z
UID:4939-1770681600-1770767999@ransomoaks.com
SUMMARY:Greenwood Clubhouse - Reserved
DESCRIPTION:
URL:https://ransomoaks.com/event/greenwood-clubhouse-reserved-154/
END:VEVENT
BEGIN:VEVENT
DTSTART;VALUE=DATE:20260211
DTEND;VALUE=DATE:20260212
DTSTAMP:20260425T074832
CREATED:20251120T165639Z
LAST-MODIFIED:20251120T165639Z
UID:4933-1770768000-1770854399@ransomoaks.com
SUMMARY:Ransom Oaks Clubhouse - Reserved
DESCRIPTION:
URL:https://ransomoaks.com/event/ransom-oaks-clubhouse-reserved-213/
END:VEVENT
BEGIN:VEVENT
DTSTART;VALUE=DATE:20260218
DTEND;VALUE=DATE:20260219
DTSTAMP:20260425T074832
CREATED:20251120T165659Z
LAST-MODIFIED:20251120T165659Z
UID:4935-1771372800-1771459199@ransomoaks.com
SUMMARY:Ransom Oaks Clubhouse - Reserved
DESCRIPTION:
URL:https://ransomoaks.com/event/ransom-oaks-clubhouse-reserved-214/
END:VEVENT
BEGIN:VEVENT
DTSTART;VALUE=DATE:20260223
DTEND;VALUE=DATE:20260224
DTSTAMP:20260425T074832
CREATED:20251120T165824Z
LAST-MODIFIED:20251120T165824Z
UID:4941-1771804800-1771891199@ransomoaks.com
SUMMARY:Greenwood Clubhouse - Reserved
DESCRIPTION:
URL:https://ransomoaks.com/event/greenwood-clubhouse-reserved-155/
END:VEVENT
BEGIN:VEVENT
DTSTART;VALUE=DATE:20260225
DTEND;VALUE=DATE:20260226
DTSTAMP:20260425T074832
CREATED:20251120T165720Z
LAST-MODIFIED:20251120T165720Z
UID:4937-1771977600-1772063999@ransomoaks.com
SUMMARY:Ransom Oaks Clubhouse - Reserved
DESCRIPTION:
URL:https://ransomoaks.com/event/ransom-oaks-clubhouse-reserved-215/
END:VEVENT
BEGIN:VEVENT
DTSTART;VALUE=DATE:20260304
DTEND;VALUE=DATE:20260305
DTSTAMP:20260425T074832
CREATED:20251120T165936Z
LAST-MODIFIED:20251120T165936Z
UID:4943-1772582400-1772668799@ransomoaks.com
SUMMARY:Ransom Oaks Clubhouse - Reserved
DESCRIPTION:
URL:https://ransomoaks.com/event/ransom-oaks-clubhouse-reserved-216/
END:VEVENT
BEGIN:VEVENT
DTSTART;VALUE=DATE:20260310
DTEND;VALUE=DATE:20260311
DTSTAMP:20260425T074832
CREATED:20251120T170049Z
LAST-MODIFIED:20251120T170049Z
UID:4951-1773100800-1773187199@ransomoaks.com
SUMMARY:Greenwood Clubhouse - Reserved
DESCRIPTION:
URL:https://ransomoaks.com/event/greenwood-clubhouse-reserved-156/
END:VEVENT
BEGIN:VEVENT
DTSTART;VALUE=DATE:20260311
DTEND;VALUE=DATE:20260312
DTSTAMP:20260425T074832
CREATED:20251120T165951Z
LAST-MODIFIED:20251120T165951Z
UID:4945-1773187200-1773273599@ransomoaks.com
SUMMARY:Ransom Oaks Clubhouse - Reserved
DESCRIPTION:
URL:https://ransomoaks.com/event/ransom-oaks-clubhouse-reserved-217/
END:VEVENT
BEGIN:VEVENT
DTSTART;VALUE=DATE:20260318
DTEND;VALUE=DATE:20260319
DTSTAMP:20260425T074832
CREATED:20251120T170008Z
LAST-MODIFIED:20251120T170008Z
UID:4947-1773792000-1773878399@ransomoaks.com
SUMMARY:Ransom Oaks Clubhouse - Reserved
DESCRIPTION:
URL:https://ransomoaks.com/event/ransom-oaks-clubhouse-reserved-218/
END:VEVENT
BEGIN:VEVENT
DTSTART;VALUE=DATE:20260325
DTEND;VALUE=DATE:20260326
DTSTAMP:20260425T074832
CREATED:20251120T170026Z
LAST-MODIFIED:20251120T170026Z
UID:4949-1774396800-1774483199@ransomoaks.com
SUMMARY:Ransom Oaks Clubhouse - Reserved
DESCRIPTION:
URL:https://ransomoaks.com/event/ransom-oaks-clubhouse-reserved-219/
END:VEVENT
BEGIN:VEVENT
DTSTART;VALUE=DATE:20260330
DTEND;VALUE=DATE:20260331
DTSTAMP:20260425T074832
CREATED:20251120T170115Z
LAST-MODIFIED:20251120T170115Z
UID:4953-1774828800-1774915199@ransomoaks.com
SUMMARY:Greenwood Clubhouse - Reserved
DESCRIPTION:
URL:https://ransomoaks.com/event/greenwood-clubhouse-reserved-157/
END:VEVENT
BEGIN:VEVENT
DTSTART;VALUE=DATE:20260401
DTEND;VALUE=DATE:20260402
DTSTAMP:20260425T074832
CREATED:20251120T170254Z
LAST-MODIFIED:20251120T170254Z
UID:4955-1775001600-1775087999@ransomoaks.com
SUMMARY:Ransom Oaks Clubhouse - Reserved
DESCRIPTION:
URL:https://ransomoaks.com/event/ransom-oaks-clubhouse-reserved-220/
END:VEVENT
BEGIN:VEVENT
DTSTART;VALUE=DATE:20260408
DTEND;VALUE=DATE:20260409
DTSTAMP:20260425T074832
CREATED:20251120T170310Z
LAST-MODIFIED:20251120T170310Z
UID:4957-1775606400-1775692799@ransomoaks.com
SUMMARY:Ransom Oaks Clubhouse - Reserved
DESCRIPTION:
URL:https://ransomoaks.com/event/ransom-oaks-clubhouse-reserved-221/
END:VEVENT
BEGIN:VEVENT
DTSTART;VALUE=DATE:20260414
DTEND;VALUE=DATE:20260415
DTSTAMP:20260425T074832
CREATED:20251120T170435Z
LAST-MODIFIED:20251120T170435Z
UID:4965-1776124800-1776211199@ransomoaks.com
SUMMARY:Greenwood Clubhouse - Reserved
DESCRIPTION:
URL:https://ransomoaks.com/event/greenwood-clubhouse-reserved-158/
END:VEVENT
BEGIN:VEVENT
DTSTART;VALUE=DATE:20260415
DTEND;VALUE=DATE:20260416
DTSTAMP:20260425T074832
CREATED:20251120T170329Z
LAST-MODIFIED:20251120T170329Z
UID:4959-1776211200-1776297599@ransomoaks.com
SUMMARY:Ransom Oaks Clubhouse - Reserved
DESCRIPTION:
URL:https://ransomoaks.com/event/ransom-oaks-clubhouse-reserved-222/
END:VEVENT
BEGIN:VEVENT
DTSTART;VALUE=DATE:20260422
DTEND;VALUE=DATE:20260423
DTSTAMP:20260425T074832
CREATED:20251120T170345Z
LAST-MODIFIED:20251120T170345Z
UID:4961-1776816000-1776902399@ransomoaks.com
SUMMARY:Ransom Oaks Clubhouse - Reserved
DESCRIPTION:
URL:https://ransomoaks.com/event/ransom-oaks-clubhouse-reserved-223/
END:VEVENT
BEGIN:VEVENT
DTSTART;VALUE=DATE:20260427
DTEND;VALUE=DATE:20260428
DTSTAMP:20260425T074832
CREATED:20251120T170502Z
LAST-MODIFIED:20251120T170502Z
UID:4967-1777248000-1777334399@ransomoaks.com
SUMMARY:Greenwood Clubhouse - Reserved
DESCRIPTION:
URL:https://ransomoaks.com/event/greenwood-clubhouse-reserved-159/
END:VEVENT
BEGIN:VEVENT
DTSTART;VALUE=DATE:20260429
DTEND;VALUE=DATE:20260430
DTSTAMP:20260425T074832
CREATED:20251120T170407Z
LAST-MODIFIED:20251120T170407Z
UID:4963-1777420800-1777507199@ransomoaks.com
SUMMARY:Ransom Oaks Clubhouse - Reserved
DESCRIPTION:
URL:https://ransomoaks.com/event/ransom-oaks-clubhouse-reserved-224/
END:VEVENT
END:VCALENDAR