BEGIN:VCALENDAR
VERSION:2.0
PRODID:-//Ransom Oaks - ECPv6.15.13//NONSGML v1.0//EN
CALSCALE:GREGORIAN
METHOD:PUBLISH
X-WR-CALNAME:Ransom Oaks
X-ORIGINAL-URL:https://ransomoaks.com
X-WR-CALDESC:Events for Ransom Oaks
REFRESH-INTERVAL;VALUE=DURATION:PT1H
X-Robots-Tag:noindex
X-PUBLISHED-TTL:PT1H
BEGIN:VTIMEZONE
TZID:America/New_York
BEGIN:DAYLIGHT
TZOFFSETFROM:-0500
TZOFFSETTO:-0400
TZNAME:EDT
DTSTART:20230312T070000
END:DAYLIGHT
BEGIN:STANDARD
TZOFFSETFROM:-0400
TZOFFSETTO:-0500
TZNAME:EST
DTSTART:20231105T060000
END:STANDARD
BEGIN:DAYLIGHT
TZOFFSETFROM:-0500
TZOFFSETTO:-0400
TZNAME:EDT
DTSTART:20240310T070000
END:DAYLIGHT
BEGIN:STANDARD
TZOFFSETFROM:-0400
TZOFFSETTO:-0500
TZNAME:EST
DTSTART:20241103T060000
END:STANDARD
BEGIN:DAYLIGHT
TZOFFSETFROM:-0500
TZOFFSETTO:-0400
TZNAME:EDT
DTSTART:20250309T070000
END:DAYLIGHT
BEGIN:STANDARD
TZOFFSETFROM:-0400
TZOFFSETTO:-0500
TZNAME:EST
DTSTART:20251102T060000
END:STANDARD
END:VTIMEZONE
BEGIN:VEVENT
DTSTART;VALUE=DATE:20241017
DTEND;VALUE=DATE:20241018
DTSTAMP:20260425T104244
CREATED:20240718T175740Z
LAST-MODIFIED:20240718T175740Z
UID:4600-1729123200-1729209599@ransomoaks.com
SUMMARY:Ransom Oaks Clubhouse - Reserved
DESCRIPTION:
URL:https://ransomoaks.com/event/ransom-oaks-clubhouse-reserved-168/
END:VEVENT
BEGIN:VEVENT
DTSTART;VALUE=DATE:20241009
DTEND;VALUE=DATE:20241010
DTSTAMP:20260425T104244
CREATED:20240718T175715Z
LAST-MODIFIED:20240718T175715Z
UID:4598-1728432000-1728518399@ransomoaks.com
SUMMARY:Greenwood Clubhouse - Reserved
DESCRIPTION:
URL:https://ransomoaks.com/event/greenwood-clubhouse-reserved-115/
END:VEVENT
BEGIN:VEVENT
DTSTART;VALUE=DATE:20241003
DTEND;VALUE=DATE:20241004
DTSTAMP:20260425T104244
CREATED:20240718T175633Z
LAST-MODIFIED:20240718T175633Z
UID:4596-1727913600-1727999999@ransomoaks.com
SUMMARY:Ransom Oaks Clubhouse - Reserved
DESCRIPTION:
URL:https://ransomoaks.com/event/ransom-oaks-clubhouse-reserved-167/
END:VEVENT
BEGIN:VEVENT
DTSTART;VALUE=DATE:20240930
DTEND;VALUE=DATE:20241001
DTSTAMP:20260425T104244
CREATED:20240718T175546Z
LAST-MODIFIED:20240718T175546Z
UID:4594-1727654400-1727740799@ransomoaks.com
SUMMARY:Greenwood Clubhouse - Reserved
DESCRIPTION:
URL:https://ransomoaks.com/event/greenwood-clubhouse-reserved-114/
END:VEVENT
BEGIN:VEVENT
DTSTART;VALUE=DATE:20240912
DTEND;VALUE=DATE:20240913
DTSTAMP:20260425T104244
CREATED:20240718T175504Z
LAST-MODIFIED:20240718T175504Z
UID:4592-1726099200-1726185599@ransomoaks.com
SUMMARY:Ransom Oaks Clubhouse - Reserved
DESCRIPTION:
URL:https://ransomoaks.com/event/ransom-oaks-clubhouse-reserved-166/
END:VEVENT
BEGIN:VEVENT
DTSTART;VALUE=DATE:20240911
DTEND;VALUE=DATE:20240912
DTSTAMP:20260425T104244
CREATED:20240718T175436Z
LAST-MODIFIED:20240718T175436Z
UID:4590-1726012800-1726099199@ransomoaks.com
SUMMARY:Greenwood Clubhouse - Reserved
DESCRIPTION:
URL:https://ransomoaks.com/event/greenwood-clubhouse-reserved-113/
END:VEVENT
BEGIN:VEVENT
DTSTART;TZID=America/New_York:20240901T140000
DTEND;TZID=America/New_York:20240901T160000
DTSTAMP:20260425T104244
CREATED:20240718T175032Z
LAST-MODIFIED:20240718T175313Z
UID:4588-1725199200-1725206400@ransomoaks.com
SUMMARY:Ransom Oaks Clubhouse - Pool
DESCRIPTION:
URL:https://ransomoaks.com/event/ransom-oaks-clubhouse-pool/
END:VEVENT
BEGIN:VEVENT
DTSTART;TZID=America/New_York:20240831T140000
DTEND;TZID=America/New_York:20240831T160000
DTSTAMP:20260425T104244
CREATED:20240718T174641Z
LAST-MODIFIED:20240718T174641Z
UID:4586-1725112800-1725120000@ransomoaks.com
SUMMARY:Eveningwood Pool
DESCRIPTION:
URL:https://ransomoaks.com/event/eveningwood-pool/
END:VEVENT
BEGIN:VEVENT
DTSTART;VALUE=DATE:20240826
DTEND;VALUE=DATE:20240827
DTSTAMP:20260425T104244
CREATED:20240509T163147Z
LAST-MODIFIED:20240509T163147Z
UID:4560-1724630400-1724716799@ransomoaks.com
SUMMARY:Greenwood Clubhouse - Reserved
DESCRIPTION:
URL:https://ransomoaks.com/event/greenwood-clubhouse-reserved-111/
END:VEVENT
BEGIN:VEVENT
DTSTART;TZID=America/New_York:20240824T200000
DTEND;TZID=America/New_York:20240824T220000
DTSTAMP:20260425T104244
CREATED:20240718T173950Z
LAST-MODIFIED:20240718T173950Z
UID:4584-1724529600-1724536800@ransomoaks.com
SUMMARY:Eveningwood Pavillion - Reserved
DESCRIPTION:
URL:https://ransomoaks.com/event/eveningwood-pavillion-reserved-3/
END:VEVENT
BEGIN:VEVENT
DTSTART;VALUE=DATE:20240824
DTEND;VALUE=DATE:20240825
DTSTAMP:20260425T104244
CREATED:20240509T163121Z
LAST-MODIFIED:20240509T163121Z
UID:4558-1724457600-1724543999@ransomoaks.com
SUMMARY:Ransom Oaks Clubhouse- Reserved
DESCRIPTION:
URL:https://ransomoaks.com/event/ransom-oaks-clubhouse-reserved-159/
END:VEVENT
BEGIN:VEVENT
DTSTART;VALUE=DATE:20240818
DTEND;VALUE=DATE:20240819
DTSTAMP:20260425T104244
CREATED:20240509T163051Z
LAST-MODIFIED:20240509T163051Z
UID:4556-1723939200-1724025599@ransomoaks.com
SUMMARY:Ransom Oaks Clubhouse- Reserved
DESCRIPTION:
URL:https://ransomoaks.com/event/ransom-oaks-clubhouse-reserved-158/
END:VEVENT
BEGIN:VEVENT
DTSTART;VALUE=DATE:20240815
DTEND;VALUE=DATE:20240816
DTSTAMP:20260425T104244
CREATED:20240509T162741Z
LAST-MODIFIED:20240509T162741Z
UID:4546-1723680000-1723766399@ransomoaks.com
SUMMARY:Ransom Oaks Clubhouse - Reserved
DESCRIPTION:
URL:https://ransomoaks.com/event/ransom-oaks-clubhouse-reserved-156/
END:VEVENT
BEGIN:VEVENT
DTSTART;VALUE=DATE:20240814
DTEND;VALUE=DATE:20240815
DTSTAMP:20260425T104244
CREATED:20240509T162931Z
LAST-MODIFIED:20240509T162931Z
UID:4554-1723593600-1723679999@ransomoaks.com
SUMMARY:Greenwood Clubhouse - Reserved
DESCRIPTION:
URL:https://ransomoaks.com/event/greenwood-clubhouse-reserved-110/
END:VEVENT
BEGIN:VEVENT
DTSTART;VALUE=DATE:20240813
DTEND;VALUE=DATE:20240814
DTSTAMP:20260425T104244
CREATED:20240509T162909Z
LAST-MODIFIED:20240509T162909Z
UID:4552-1723507200-1723593599@ransomoaks.com
SUMMARY:Greenwood Clubhouse - Reserved
DESCRIPTION:
URL:https://ransomoaks.com/event/greenwood-clubhouse-reserved-109/
END:VEVENT
BEGIN:VEVENT
DTSTART;VALUE=DATE:20240813
DTEND;VALUE=DATE:20240814
DTSTAMP:20260425T104244
CREATED:20240509T162843Z
LAST-MODIFIED:20240509T162843Z
UID:4550-1723507200-1723593599@ransomoaks.com
SUMMARY:Ransom Oaks Clubhouse - Reserved
DESCRIPTION:
URL:https://ransomoaks.com/event/ransom-oaks-clubhouse-reserved-157/
END:VEVENT
BEGIN:VEVENT
DTSTART;VALUE=DATE:20240812
DTEND;VALUE=DATE:20240813
DTSTAMP:20260425T104244
CREATED:20240509T162815Z
LAST-MODIFIED:20240509T162815Z
UID:4548-1723420800-1723507199@ransomoaks.com
SUMMARY:Greenwood Clubhouse - Reserved
DESCRIPTION:
URL:https://ransomoaks.com/event/greenwood-clubhouse-reserved-108/
END:VEVENT
BEGIN:VEVENT
DTSTART;TZID=America/New_York:20240810T120000
DTEND;TZID=America/New_York:20240810T140000
DTSTAMP:20260425T104244
CREATED:20240718T173548Z
LAST-MODIFIED:20240718T173548Z
UID:4582-1723291200-1723298400@ransomoaks.com
SUMMARY:Ransom Oaks Clubhouse - Reserved
DESCRIPTION:
URL:https://ransomoaks.com/event/ransom-oaks-clubhouse-reserved-165/
END:VEVENT
BEGIN:VEVENT
DTSTART;TZID=America/New_York:20240809T200000
DTEND;TZID=America/New_York:20240809T220000
DTSTAMP:20260425T104244
CREATED:20240718T172120Z
LAST-MODIFIED:20240718T173403Z
UID:4577-1723233600-1723240800@ransomoaks.com
SUMMARY:Ransom Oaks Clubhouse -Pool Reserved
DESCRIPTION:
URL:https://ransomoaks.com/event/greenwood-clubhouse-reserved-112/
END:VEVENT
BEGIN:VEVENT
DTSTART;VALUE=DATE:20240808
DTEND;VALUE=DATE:20240809
DTSTAMP:20260425T104244
CREATED:20240509T162721Z
LAST-MODIFIED:20240509T162721Z
UID:4544-1723075200-1723161599@ransomoaks.com
SUMMARY:Ransom Oaks Clubhouse - Reserved
DESCRIPTION:
URL:https://ransomoaks.com/event/ransom-oaks-clubhouse-reserved-155/
END:VEVENT
BEGIN:VEVENT
DTSTART;VALUE=DATE:20240801
DTEND;VALUE=DATE:20240802
DTSTAMP:20260425T104244
CREATED:20240509T162653Z
LAST-MODIFIED:20240509T162653Z
UID:4542-1722470400-1722556799@ransomoaks.com
SUMMARY:Ransom Oaks Clubhouse- Reserved
DESCRIPTION:
URL:https://ransomoaks.com/event/ransom-oaks-clubhouse-reserved-154/
END:VEVENT
BEGIN:VEVENT
DTSTART;TZID=America/New_York:20240730T180000
DTEND;TZID=America/New_York:20240730T200000
DTSTAMP:20260425T104244
CREATED:20240718T171351Z
LAST-MODIFIED:20240718T171704Z
UID:4575-1722362400-1722369600@ransomoaks.com
SUMMARY:Ransom Oaks Clubhouse - Reserved
DESCRIPTION:
URL:https://ransomoaks.com/event/ransom-oaks-clubhouse-reserved-164/
END:VEVENT
BEGIN:VEVENT
DTSTART;TZID=America/New_York:20240729T200000
DTEND;TZID=America/New_York:20240729T200000
DTSTAMP:20260425T104244
CREATED:20240718T171244Z
LAST-MODIFIED:20240718T171244Z
UID:4573-1722283200-1722283200@ransomoaks.com
SUMMARY:Ransom Oaks Clubhouse - Reserved
DESCRIPTION:
URL:https://ransomoaks.com/event/ransom-oaks-clubhouse-reserved-163/
END:VEVENT
BEGIN:VEVENT
DTSTART;VALUE=DATE:20240729
DTEND;VALUE=DATE:20240730
DTSTAMP:20260425T104244
CREATED:20240116T181052Z
LAST-MODIFIED:20240116T181052Z
UID:4442-1722211200-1722297599@ransomoaks.com
SUMMARY:Greenwood Clubhouse - Reserved
DESCRIPTION:
URL:https://ransomoaks.com/event/greenwood-clubhouse-reserved-90/
END:VEVENT
BEGIN:VEVENT
DTSTART;VALUE=DATE:20240728
DTEND;VALUE=DATE:20240729
DTSTAMP:20260425T104244
CREATED:20240509T162555Z
LAST-MODIFIED:20240509T162555Z
UID:4540-1722124800-1722211199@ransomoaks.com
SUMMARY:Ransom Oaks Clubhouse - Reserved
DESCRIPTION:
URL:https://ransomoaks.com/event/ransom-oaks-clubhouse-reserved-153/
END:VEVENT
BEGIN:VEVENT
DTSTART;TZID=America/New_York:20240727T200000
DTEND;TZID=America/New_York:20240727T220000
DTSTAMP:20260425T104244
CREATED:20240718T161400Z
LAST-MODIFIED:20240718T170211Z
UID:4565-1722110400-1722117600@ransomoaks.com
SUMMARY:Eveningwood Pavillion - Reserved
DESCRIPTION:
URL:https://ransomoaks.com/event/ransom-oaks-clubhouse-reserved-161/
END:VEVENT
BEGIN:VEVENT
DTSTART;VALUE=DATE:20240727
DTEND;VALUE=DATE:20240728
DTSTAMP:20260425T104244
CREATED:20240718T171141Z
LAST-MODIFIED:20240718T171141Z
UID:4571-1722038400-1722124799@ransomoaks.com
SUMMARY:Ransom Oaks Clubhouse - Reserved
DESCRIPTION:
URL:https://ransomoaks.com/event/ransom-oaks-clubhouse-reserved-162/
END:VEVENT
BEGIN:VEVENT
DTSTART;TZID=America/New_York:20240726T200000
DTEND;TZID=America/New_York:20240726T220000
DTSTAMP:20260425T104244
CREATED:20240718T170735Z
LAST-MODIFIED:20240718T170735Z
UID:4569-1722024000-1722031200@ransomoaks.com
SUMMARY:Eveningwood Pavillion - Reserved
DESCRIPTION:
URL:https://ransomoaks.com/event/eveningwood-pavillion-reserved-2/
END:VEVENT
BEGIN:VEVENT
DTSTART;VALUE=DATE:20240725
DTEND;VALUE=DATE:20240726
DTSTAMP:20260425T104244
CREATED:20240509T162525Z
LAST-MODIFIED:20240509T162525Z
UID:4538-1721865600-1721951999@ransomoaks.com
SUMMARY:Ransom Oaks Clubhouse- Reserved
DESCRIPTION:
URL:https://ransomoaks.com/event/ransom-oaks-clubhouse-reserved-152/
END:VEVENT
BEGIN:VEVENT
DTSTART;VALUE=DATE:20240720
DTEND;VALUE=DATE:20240721
DTSTAMP:20260425T104244
CREATED:20240509T162424Z
LAST-MODIFIED:20240509T162424Z
UID:4536-1721433600-1721519999@ransomoaks.com
SUMMARY:Ransom Oaks Clubhouse - Reserved
DESCRIPTION:
URL:https://ransomoaks.com/event/ransom-oaks-clubhouse-reserved-151/
END:VEVENT
END:VCALENDAR