BEGIN:VCALENDAR
VERSION:2.0
PRODID:-//Ransom Oaks - ECPv6.15.13//NONSGML v1.0//EN
CALSCALE:GREGORIAN
METHOD:PUBLISH
X-WR-CALNAME:Ransom Oaks
X-ORIGINAL-URL:https://ransomoaks.com
X-WR-CALDESC:Events for Ransom Oaks
REFRESH-INTERVAL;VALUE=DURATION:PT1H
X-Robots-Tag:noindex
X-PUBLISHED-TTL:PT1H
BEGIN:VTIMEZONE
TZID:America/New_York
BEGIN:DAYLIGHT
TZOFFSETFROM:-0500
TZOFFSETTO:-0400
TZNAME:EDT
DTSTART:20230312T070000
END:DAYLIGHT
BEGIN:STANDARD
TZOFFSETFROM:-0400
TZOFFSETTO:-0500
TZNAME:EST
DTSTART:20231105T060000
END:STANDARD
BEGIN:DAYLIGHT
TZOFFSETFROM:-0500
TZOFFSETTO:-0400
TZNAME:EDT
DTSTART:20240310T070000
END:DAYLIGHT
BEGIN:STANDARD
TZOFFSETFROM:-0400
TZOFFSETTO:-0500
TZNAME:EST
DTSTART:20241103T060000
END:STANDARD
BEGIN:DAYLIGHT
TZOFFSETFROM:-0500
TZOFFSETTO:-0400
TZNAME:EDT
DTSTART:20250309T070000
END:DAYLIGHT
BEGIN:STANDARD
TZOFFSETFROM:-0400
TZOFFSETTO:-0500
TZNAME:EST
DTSTART:20251102T060000
END:STANDARD
END:VTIMEZONE
BEGIN:VEVENT
DTSTART;VALUE=DATE:20240315
DTEND;VALUE=DATE:20240517
DTSTAMP:20260425T215108
CREATED:20240116T175445Z
LAST-MODIFIED:20240116T175445Z
UID:4408-1710460800-1715903999@ransomoaks.com
SUMMARY:Ransom Oaks Clubhouse - Reserved
DESCRIPTION:
URL:https://ransomoaks.com/event/ransom-oaks-clubhouse-reserved-129/
END:VEVENT
BEGIN:VEVENT
DTSTART;VALUE=DATE:20240508
DTEND;VALUE=DATE:20240509
DTSTAMP:20260425T215108
CREATED:20240116T180009Z
LAST-MODIFIED:20240116T180009Z
UID:4422-1715126400-1715212799@ransomoaks.com
SUMMARY:Greenwood Clubhouse - Reserved
DESCRIPTION:
URL:https://ransomoaks.com/event/greenwood-clubhouse-reserved-84/
END:VEVENT
BEGIN:VEVENT
DTSTART;VALUE=DATE:20240509
DTEND;VALUE=DATE:20240510
DTSTAMP:20260425T215108
CREATED:20240116T180034Z
LAST-MODIFIED:20240116T180034Z
UID:4424-1715212800-1715299199@ransomoaks.com
SUMMARY:Ransom Oaks Clubhouse - Reserved
DESCRIPTION:
URL:https://ransomoaks.com/event/ransom-oaks-clubhouse-reserved-133/
END:VEVENT
BEGIN:VEVENT
DTSTART;VALUE=DATE:20240510
DTEND;VALUE=DATE:20240511
DTSTAMP:20260425T215108
CREATED:20240509T153915Z
LAST-MODIFIED:20240509T153915Z
UID:4498-1715299200-1715385599@ransomoaks.com
SUMMARY:Greenwood Clubhouse - Reserved
DESCRIPTION:
URL:https://ransomoaks.com/event/greenwood-clubhouse-reserved-100/
END:VEVENT
BEGIN:VEVENT
DTSTART;VALUE=DATE:20240511
DTEND;VALUE=DATE:20240512
DTSTAMP:20260425T215108
CREATED:20240509T153943Z
LAST-MODIFIED:20240509T153943Z
UID:4500-1715385600-1715471999@ransomoaks.com
SUMMARY:Ransom Oaks Clubhouse - Reserved
DESCRIPTION:
URL:https://ransomoaks.com/event/ransom-oaks-clubhouse-reserved-142/
END:VEVENT
BEGIN:VEVENT
DTSTART;TZID=America/New_York:20240511T080000
DTEND;TZID=America/New_York:20240512T170000
DTSTAMP:20260425T215108
CREATED:20240509T154016Z
LAST-MODIFIED:20240509T154033Z
UID:4502-1715414400-1715533200@ransomoaks.com
SUMMARY:Greenwood Clubhouse - Reserved
DESCRIPTION:
URL:https://ransomoaks.com/event/greenwood-clubhouse-reserved-101/
END:VEVENT
BEGIN:VEVENT
DTSTART;VALUE=DATE:20240513
DTEND;VALUE=DATE:20240514
DTSTAMP:20260425T215108
CREATED:20240116T180101Z
LAST-MODIFIED:20240116T180101Z
UID:4426-1715558400-1715644799@ransomoaks.com
SUMMARY:Ransom Oaks Clubhouse - Reserved
DESCRIPTION:
URL:https://ransomoaks.com/event/ransom-oaks-clubhouse-reserved-134/
END:VEVENT
BEGIN:VEVENT
DTSTART;VALUE=DATE:20240516
DTEND;VALUE=DATE:20240517
DTSTAMP:20260425T215108
CREATED:20240509T154101Z
LAST-MODIFIED:20240509T154101Z
UID:4504-1715817600-1715903999@ransomoaks.com
SUMMARY:Ransom Oaks Clubhouse - Reserved
DESCRIPTION:
URL:https://ransomoaks.com/event/ransom-oaks-clubhouse-reserved-143/
END:VEVENT
BEGIN:VEVENT
DTSTART;VALUE=DATE:20240516
DTEND;VALUE=DATE:20240517
DTSTAMP:20260425T215108
CREATED:20240509T154136Z
LAST-MODIFIED:20240509T154136Z
UID:4506-1715817600-1715903999@ransomoaks.com
SUMMARY:Greenwood Clubhouse - Reserved
DESCRIPTION:
URL:https://ransomoaks.com/event/greenwood-clubhouse-reserved-102/
END:VEVENT
BEGIN:VEVENT
DTSTART;VALUE=DATE:20240518
DTEND;VALUE=DATE:20240519
DTSTAMP:20260425T215108
CREATED:20240509T154216Z
LAST-MODIFIED:20240509T154216Z
UID:4508-1715990400-1716076799@ransomoaks.com
SUMMARY:Ransom Oaks Clubhouse - Reserved
DESCRIPTION:
URL:https://ransomoaks.com/event/ransom-oaks-clubhouse-reserved-144/
END:VEVENT
BEGIN:VEVENT
DTSTART;TZID=America/New_York:20240518T080000
DTEND;TZID=America/New_York:20240518T170000
DTSTAMP:20260425T215108
CREATED:20240509T154234Z
LAST-MODIFIED:20240509T154234Z
UID:4510-1716019200-1716051600@ransomoaks.com
SUMMARY:Greenwood Clubhouses - Reserved
DESCRIPTION:
URL:https://ransomoaks.com/event/greenwood-clubhouses-reserved/
END:VEVENT
BEGIN:VEVENT
DTSTART;VALUE=DATE:20240520
DTEND;VALUE=DATE:20240521
DTSTAMP:20260425T215108
CREATED:20240116T180125Z
LAST-MODIFIED:20240116T180125Z
UID:4428-1716163200-1716249599@ransomoaks.com
SUMMARY:Greenwood Clubhouse - Reserved
DESCRIPTION:
URL:https://ransomoaks.com/event/greenwood-clubhouse-reserved-85/
END:VEVENT
BEGIN:VEVENT
DTSTART;VALUE=DATE:20240520
DTEND;VALUE=DATE:20240521
DTSTAMP:20260425T215108
CREATED:20240509T154328Z
LAST-MODIFIED:20240509T154328Z
UID:4512-1716163200-1716249599@ransomoaks.com
SUMMARY:Ransom Oaks Clubhouse - Reserved
DESCRIPTION:
URL:https://ransomoaks.com/event/ransom-oaks-clubhouse-reserved-145/
END:VEVENT
BEGIN:VEVENT
DTSTART;TZID=America/New_York:20240523T080000
DTEND;TZID=America/New_York:20240527T170000
DTSTAMP:20260425T215108
CREATED:20240509T154418Z
LAST-MODIFIED:20240509T154418Z
UID:4514-1716451200-1716829200@ransomoaks.com
SUMMARY:Ransom Oaks Clubhouse - Reserved
DESCRIPTION:
URL:https://ransomoaks.com/event/ransom-oaks-clubhouse-reserved-146/
END:VEVENT
BEGIN:VEVENT
DTSTART;TZID=America/New_York:20240523T080000
DTEND;TZID=America/New_York:20240527T170000
DTSTAMP:20260425T215108
CREATED:20240509T154447Z
LAST-MODIFIED:20240509T154447Z
UID:4516-1716451200-1716829200@ransomoaks.com
SUMMARY:Greenwood Clubhouse - Reserved
DESCRIPTION:
URL:https://ransomoaks.com/event/greenwood-clubhouse-reserved-103/
END:VEVENT
END:VCALENDAR