BEGIN:VCALENDAR
VERSION:2.0
PRODID:-//Ransom Oaks - ECPv6.15.13//NONSGML v1.0//EN
CALSCALE:GREGORIAN
METHOD:PUBLISH
X-ORIGINAL-URL:https://ransomoaks.com
X-WR-CALDESC:Events for Ransom Oaks
REFRESH-INTERVAL;VALUE=DURATION:PT1H
X-Robots-Tag:noindex
X-PUBLISHED-TTL:PT1H
BEGIN:VTIMEZONE
TZID:America/New_York
BEGIN:DAYLIGHT
TZOFFSETFROM:-0500
TZOFFSETTO:-0400
TZNAME:EDT
DTSTART:20230312T070000
END:DAYLIGHT
BEGIN:STANDARD
TZOFFSETFROM:-0400
TZOFFSETTO:-0500
TZNAME:EST
DTSTART:20231105T060000
END:STANDARD
BEGIN:DAYLIGHT
TZOFFSETFROM:-0500
TZOFFSETTO:-0400
TZNAME:EDT
DTSTART:20240310T070000
END:DAYLIGHT
BEGIN:STANDARD
TZOFFSETFROM:-0400
TZOFFSETTO:-0500
TZNAME:EST
DTSTART:20241103T060000
END:STANDARD
BEGIN:DAYLIGHT
TZOFFSETFROM:-0500
TZOFFSETTO:-0400
TZNAME:EDT
DTSTART:20250309T070000
END:DAYLIGHT
BEGIN:STANDARD
TZOFFSETFROM:-0400
TZOFFSETTO:-0500
TZNAME:EST
DTSTART:20251102T060000
END:STANDARD
END:VTIMEZONE
BEGIN:VEVENT
DTSTART;VALUE=DATE:20240701
DTEND;VALUE=DATE:20240702
DTSTAMP:20260425T185351
CREATED:20240509T162147Z
LAST-MODIFIED:20240509T162147Z
UID:4530-1719792000-1719878399@ransomoaks.com
SUMMARY:Greenwood Clubhouse - Reserved
DESCRIPTION:
URL:https://ransomoaks.com/event/greenwood-clubhouse-reserved-106/
END:VEVENT
BEGIN:VEVENT
DTSTART;VALUE=DATE:20240708
DTEND;VALUE=DATE:20240709
DTSTAMP:20260425T185351
CREATED:20240509T162216Z
LAST-MODIFIED:20240509T162216Z
UID:4532-1720396800-1720483199@ransomoaks.com
SUMMARY:Greenwood Clubhouse - Reserved
DESCRIPTION:
URL:https://ransomoaks.com/event/greenwood-clubhouse-reserved-107/
END:VEVENT
BEGIN:VEVENT
DTSTART;VALUE=DATE:20240710
DTEND;VALUE=DATE:20240711
DTSTAMP:20260425T185351
CREATED:20240116T180536Z
LAST-MODIFIED:20240116T180947Z
UID:4438-1720569600-1720655999@ransomoaks.com
SUMMARY:Greenwood Clubhouse - Reserved
DESCRIPTION:
URL:https://ransomoaks.com/event/greenwood-clubhouse-reserved-89/
END:VEVENT
BEGIN:VEVENT
DTSTART;VALUE=DATE:20240711
DTEND;VALUE=DATE:20240712
DTSTAMP:20260425T185351
CREATED:20240116T181021Z
LAST-MODIFIED:20240116T181021Z
UID:4440-1720656000-1720742399@ransomoaks.com
SUMMARY:Ransom Oaks Clubhouse- Reserved
DESCRIPTION:
URL:https://ransomoaks.com/event/ransom-oaks-clubhouse-reserved-136/
END:VEVENT
BEGIN:VEVENT
DTSTART;VALUE=DATE:20240718
DTEND;VALUE=DATE:20240719
DTSTAMP:20260425T185351
CREATED:20240509T162346Z
LAST-MODIFIED:20240509T162346Z
UID:4534-1721260800-1721347199@ransomoaks.com
SUMMARY:Ransom Oaks Clubhouse - Reserved
DESCRIPTION:
URL:https://ransomoaks.com/event/ransom-oaks-clubhouse-reserved-150/
END:VEVENT
BEGIN:VEVENT
DTSTART;VALUE=DATE:20240718
DTEND;VALUE=DATE:20240719
DTSTAMP:20260425T185351
CREATED:20240718T161209Z
LAST-MODIFIED:20240718T161209Z
UID:4563-1721260800-1721347199@ransomoaks.com
SUMMARY:Ransom Oaks Clubhouse - Reserved
DESCRIPTION:
URL:https://ransomoaks.com/event/ransom-oaks-clubhouse-reserved-160/
END:VEVENT
BEGIN:VEVENT
DTSTART;VALUE=DATE:20240720
DTEND;VALUE=DATE:20240721
DTSTAMP:20260425T185351
CREATED:20240509T162424Z
LAST-MODIFIED:20240509T162424Z
UID:4536-1721433600-1721519999@ransomoaks.com
SUMMARY:Ransom Oaks Clubhouse - Reserved
DESCRIPTION:
URL:https://ransomoaks.com/event/ransom-oaks-clubhouse-reserved-151/
END:VEVENT
BEGIN:VEVENT
DTSTART;VALUE=DATE:20240725
DTEND;VALUE=DATE:20240726
DTSTAMP:20260425T185351
CREATED:20240509T162525Z
LAST-MODIFIED:20240509T162525Z
UID:4538-1721865600-1721951999@ransomoaks.com
SUMMARY:Ransom Oaks Clubhouse- Reserved
DESCRIPTION:
URL:https://ransomoaks.com/event/ransom-oaks-clubhouse-reserved-152/
END:VEVENT
BEGIN:VEVENT
DTSTART;TZID=America/New_York:20240726T200000
DTEND;TZID=America/New_York:20240726T220000
DTSTAMP:20260425T185351
CREATED:20240718T170735Z
LAST-MODIFIED:20240718T170735Z
UID:4569-1722024000-1722031200@ransomoaks.com
SUMMARY:Eveningwood Pavillion - Reserved
DESCRIPTION:
URL:https://ransomoaks.com/event/eveningwood-pavillion-reserved-2/
END:VEVENT
BEGIN:VEVENT
DTSTART;VALUE=DATE:20240727
DTEND;VALUE=DATE:20240728
DTSTAMP:20260425T185352
CREATED:20240718T171141Z
LAST-MODIFIED:20240718T171141Z
UID:4571-1722038400-1722124799@ransomoaks.com
SUMMARY:Ransom Oaks Clubhouse - Reserved
DESCRIPTION:
URL:https://ransomoaks.com/event/ransom-oaks-clubhouse-reserved-162/
END:VEVENT
BEGIN:VEVENT
DTSTART;TZID=America/New_York:20240727T200000
DTEND;TZID=America/New_York:20240727T220000
DTSTAMP:20260425T185352
CREATED:20240718T161400Z
LAST-MODIFIED:20240718T170211Z
UID:4565-1722110400-1722117600@ransomoaks.com
SUMMARY:Eveningwood Pavillion - Reserved
DESCRIPTION:
URL:https://ransomoaks.com/event/ransom-oaks-clubhouse-reserved-161/
END:VEVENT
BEGIN:VEVENT
DTSTART;VALUE=DATE:20240728
DTEND;VALUE=DATE:20240729
DTSTAMP:20260425T185352
CREATED:20240509T162555Z
LAST-MODIFIED:20240509T162555Z
UID:4540-1722124800-1722211199@ransomoaks.com
SUMMARY:Ransom Oaks Clubhouse - Reserved
DESCRIPTION:
URL:https://ransomoaks.com/event/ransom-oaks-clubhouse-reserved-153/
END:VEVENT
BEGIN:VEVENT
DTSTART;VALUE=DATE:20240729
DTEND;VALUE=DATE:20240730
DTSTAMP:20260425T185352
CREATED:20240116T181052Z
LAST-MODIFIED:20240116T181052Z
UID:4442-1722211200-1722297599@ransomoaks.com
SUMMARY:Greenwood Clubhouse - Reserved
DESCRIPTION:
URL:https://ransomoaks.com/event/greenwood-clubhouse-reserved-90/
END:VEVENT
BEGIN:VEVENT
DTSTART;TZID=America/New_York:20240729T200000
DTEND;TZID=America/New_York:20240729T200000
DTSTAMP:20260425T185352
CREATED:20240718T171244Z
LAST-MODIFIED:20240718T171244Z
UID:4573-1722283200-1722283200@ransomoaks.com
SUMMARY:Ransom Oaks Clubhouse - Reserved
DESCRIPTION:
URL:https://ransomoaks.com/event/ransom-oaks-clubhouse-reserved-163/
END:VEVENT
BEGIN:VEVENT
DTSTART;TZID=America/New_York:20240730T180000
DTEND;TZID=America/New_York:20240730T200000
DTSTAMP:20260425T185352
CREATED:20240718T171351Z
LAST-MODIFIED:20240718T171704Z
UID:4575-1722362400-1722369600@ransomoaks.com
SUMMARY:Ransom Oaks Clubhouse - Reserved
DESCRIPTION:
URL:https://ransomoaks.com/event/ransom-oaks-clubhouse-reserved-164/
END:VEVENT
END:VCALENDAR